>>>>>>>
>>>>>>> INSTALLATION WITH 'R CMD INSTALL --preclean --library=Biobase.buildbin-libdir Biobase_2.12.2.tar.gz'
>>>>>>>
* installing *source* package 'Biobase' ...
** libs
*** arch - i386
gcc-4.2 -arch i386 -std=gnu99 -I/Library/Frameworks/R.framework/Versions/2.13/Resources/include -I/Library/Frameworks/R.framework/Versions/2.13/Resources/include/i386 -I/usr/local/include -fPIC -g -O2 -Wall -pedantic -c Rinit.c -o Rinit.o
gcc-4.2 -arch i386 -std=gnu99 -I/Library/Frameworks/R.framework/Versions/2.13/Resources/include -I/Library/Frameworks/R.framework/Versions/2.13/Resources/include/i386 -I/usr/local/include -fPIC -g -O2 -Wall -pedantic -c anyMissing.c -o anyMissing.o
gcc-4.2 -arch i386 -std=gnu99 -I/Library/Frameworks/R.framework/Versions/2.13/Resources/include -I/Library/Frameworks/R.framework/Versions/2.13/Resources/include/i386 -I/usr/local/include -fPIC -g -O2 -Wall -pedantic -c envir.c -o envir.o
gcc-4.2 -arch i386 -std=gnu99 -I/Library/Frameworks/R.framework/Versions/2.13/Resources/include -I/Library/Frameworks/R.framework/Versions/2.13/Resources/include/i386 -I/usr/local/include -fPIC -g -O2 -Wall -pedantic -c matchpt.c -o matchpt.o
gcc-4.2 -arch i386 -std=gnu99 -I/Library/Frameworks/R.framework/Versions/2.13/Resources/include -I/Library/Frameworks/R.framework/Versions/2.13/Resources/include/i386 -I/usr/local/include -fPIC -g -O2 -Wall -pedantic -c rowMedians.c -o rowMedians.o
gcc-4.2 -arch i386 -std=gnu99 -I/Library/Frameworks/R.framework/Versions/2.13/Resources/include -I/Library/Frameworks/R.framework/Versions/2.13/Resources/include/i386 -I/usr/local/include -fPIC -g -O2 -Wall -pedantic -c sublist_extract.c -o sublist_extract.o
gcc-4.2 -arch i386 -std=gnu99 -dynamiclib -Wl,-headerpad_max_install_names -undefined dynamic_lookup -single_module -multiply_defined suppress -L/usr/local/lib -o Biobase.so Rinit.o anyMissing.o envir.o matchpt.o rowMedians.o sublist_extract.o -F/Library/Frameworks/R.framework/.. -framework R -Wl,-framework -Wl,CoreFoundation
installing to /Users/biocbuild/bbs-2.8-bioc/meat/Biobase.buildbin-libdir/Biobase/libs/i386
*** arch - ppc
gcc-4.2 -arch ppc -std=gnu99 -I/Library/Frameworks/R.framework/Versions/2.13/Resources/include -I/Library/Frameworks/R.framework/Versions/2.13/Resources/include/ppc -I/usr/local/include -fPIC -g -O2 -Wall -pedantic -c Rinit.c -o Rinit.o
gcc-4.2 -arch ppc -std=gnu99 -I/Library/Frameworks/R.framework/Versions/2.13/Resources/include -I/Library/Frameworks/R.framework/Versions/2.13/Resources/include/ppc -I/usr/local/include -fPIC -g -O2 -Wall -pedantic -c anyMissing.c -o anyMissing.o
gcc-4.2 -arch ppc -std=gnu99 -I/Library/Frameworks/R.framework/Versions/2.13/Resources/include -I/Library/Frameworks/R.framework/Versions/2.13/Resources/include/ppc -I/usr/local/include -fPIC -g -O2 -Wall -pedantic -c envir.c -o envir.o
gcc-4.2 -arch ppc -std=gnu99 -I/Library/Frameworks/R.framework/Versions/2.13/Resources/include -I/Library/Frameworks/R.framework/Versions/2.13/Resources/include/ppc -I/usr/local/include -fPIC -g -O2 -Wall -pedantic -c matchpt.c -o matchpt.o
gcc-4.2 -arch ppc -std=gnu99 -I/Library/Frameworks/R.framework/Versions/2.13/Resources/include -I/Library/Frameworks/R.framework/Versions/2.13/Resources/include/ppc -I/usr/local/include -fPIC -g -O2 -Wall -pedantic -c rowMedians.c -o rowMedians.o
gcc-4.2 -arch ppc -std=gnu99 -I/Library/Frameworks/R.framework/Versions/2.13/Resources/include -I/Library/Frameworks/R.framework/Versions/2.13/Resources/include/ppc -I/usr/local/include -fPIC -g -O2 -Wall -pedantic -c sublist_extract.c -o sublist_extract.o
gcc-4.2 -arch ppc -std=gnu99 -dynamiclib -Wl,-headerpad_max_install_names -undefined dynamic_lookup -single_module -multiply_defined suppress -L/usr/local/lib -o Biobase.so Rinit.o anyMissing.o envir.o matchpt.o rowMedians.o sublist_extract.o -F/Library/Frameworks/R.framework/.. -framework R -Wl,-framework -Wl,CoreFoundation
installing to /Users/biocbuild/bbs-2.8-bioc/meat/Biobase.buildbin-libdir/Biobase/libs/ppc
*** arch - x86_64
gcc-4.2 -arch x86_64 -std=gnu99 -I/Library/Frameworks/R.framework/Versions/2.13/Resources/include -I/Library/Frameworks/R.framework/Versions/2.13/Resources/include/x86_64 -I/usr/local/include -fPIC -g -O2 -Wall -pedantic -c Rinit.c -o Rinit.o
gcc-4.2 -arch x86_64 -std=gnu99 -I/Library/Frameworks/R.framework/Versions/2.13/Resources/include -I/Library/Frameworks/R.framework/Versions/2.13/Resources/include/x86_64 -I/usr/local/include -fPIC -g -O2 -Wall -pedantic -c anyMissing.c -o anyMissing.o
gcc-4.2 -arch x86_64 -std=gnu99 -I/Library/Frameworks/R.framework/Versions/2.13/Resources/include -I/Library/Frameworks/R.framework/Versions/2.13/Resources/include/x86_64 -I/usr/local/include -fPIC -g -O2 -Wall -pedantic -c envir.c -o envir.o
gcc-4.2 -arch x86_64 -std=gnu99 -I/Library/Frameworks/R.framework/Versions/2.13/Resources/include -I/Library/Frameworks/R.framework/Versions/2.13/Resources/include/x86_64 -I/usr/local/include -fPIC -g -O2 -Wall -pedantic -c matchpt.c -o matchpt.o
gcc-4.2 -arch x86_64 -std=gnu99 -I/Library/Frameworks/R.framework/Versions/2.13/Resources/include -I/Library/Frameworks/R.framework/Versions/2.13/Resources/include/x86_64 -I/usr/local/include -fPIC -g -O2 -Wall -pedantic -c rowMedians.c -o rowMedians.o
gcc-4.2 -arch x86_64 -std=gnu99 -I/Library/Frameworks/R.framework/Versions/2.13/Resources/include -I/Library/Frameworks/R.framework/Versions/2.13/Resources/include/x86_64 -I/usr/local/include -fPIC -g -O2 -Wall -pedantic -c sublist_extract.c -o sublist_extract.o
gcc-4.2 -arch x86_64 -std=gnu99 -dynamiclib -Wl,-headerpad_max_install_names -undefined dynamic_lookup -single_module -multiply_defined suppress -L/usr/local/lib -o Biobase.so Rinit.o anyMissing.o envir.o matchpt.o rowMedians.o sublist_extract.o -F/Library/Frameworks/R.framework/.. -framework R -Wl,-framework -Wl,CoreFoundation
installing to /Users/biocbuild/bbs-2.8-bioc/meat/Biobase.buildbin-libdir/Biobase/libs/x86_64
** R
** data
** inst
** preparing package for lazy loading
** help
*** installing help indices
** building package indices ...
** testing if installed package can be loaded
* DONE (Biobase)
>>>>>>>
>>>>>>> FIXING LINKS FOR Biobase.buildbin-libdir/Biobase/libs/i386/Biobase.so
>>>>>>>
install_name_tool -change "/usr/local/lib/libgcc_s.1.dylib" "/Library/Frameworks/R.framework/Versions/2.13/Resources/lib/libgcc_s.1.dylib" "Biobase.buildbin-libdir/Biobase/libs/i386/Biobase.so"
install_name_tool -change "/usr/local/lib/libgfortran.2.dylib" "/Library/Frameworks/R.framework/Versions/2.13/Resources/lib/libgfortran.2.dylib" "Biobase.buildbin-libdir/Biobase/libs/i386/Biobase.so"
install_name_tool -change "/usr/local/lib/libreadline.5.2.dylib" "/Library/Frameworks/R.framework/Versions/2.13/Resources/lib/libreadline.5.2.dylib" "Biobase.buildbin-libdir/Biobase/libs/i386/Biobase.so"
install_name_tool -change "/usr/local/lib/libreadline.dylib" "/Library/Frameworks/R.framework/Versions/2.13/Resources/lib/libreadline.dylib" "Biobase.buildbin-libdir/Biobase/libs/i386/Biobase.so"
>>>>>>>
>>>>>>> FIXING LINKS FOR Biobase.buildbin-libdir/Biobase/libs/ppc/Biobase.so
>>>>>>>
install_name_tool -change "/usr/local/lib/libgcc_s.1.dylib" "/Library/Frameworks/R.framework/Versions/2.13/Resources/lib/libgcc_s.1.dylib" "Biobase.buildbin-libdir/Biobase/libs/ppc/Biobase.so"
install_name_tool -change "/usr/local/lib/libgfortran.2.dylib" "/Library/Frameworks/R.framework/Versions/2.13/Resources/lib/libgfortran.2.dylib" "Biobase.buildbin-libdir/Biobase/libs/ppc/Biobase.so"
install_name_tool -change "/usr/local/lib/libreadline.5.2.dylib" "/Library/Frameworks/R.framework/Versions/2.13/Resources/lib/libreadline.5.2.dylib" "Biobase.buildbin-libdir/Biobase/libs/ppc/Biobase.so"
install_name_tool -change "/usr/local/lib/libreadline.dylib" "/Library/Frameworks/R.framework/Versions/2.13/Resources/lib/libreadline.dylib" "Biobase.buildbin-libdir/Biobase/libs/ppc/Biobase.so"
>>>>>>>
>>>>>>> FIXING LINKS FOR Biobase.buildbin-libdir/Biobase/libs/x86_64/Biobase.so
>>>>>>>
install_name_tool -change "/usr/local/lib/libgcc_s.1.dylib" "/Library/Frameworks/R.framework/Versions/2.13/Resources/lib/libgcc_s.1.dylib" "Biobase.buildbin-libdir/Biobase/libs/x86_64/Biobase.so"
install_name_tool -change "/usr/local/lib/libgfortran.2.dylib" "/Library/Frameworks/R.framework/Versions/2.13/Resources/lib/libgfortran.2.dylib" "Biobase.buildbin-libdir/Biobase/libs/x86_64/Biobase.so"
install_name_tool -change "/usr/local/lib/libreadline.5.2.dylib" "/Library/Frameworks/R.framework/Versions/2.13/Resources/lib/libreadline.5.2.dylib" "Biobase.buildbin-libdir/Biobase/libs/x86_64/Biobase.so"
install_name_tool -change "/usr/local/lib/libreadline.dylib" "/Library/Frameworks/R.framework/Versions/2.13/Resources/lib/libreadline.dylib" "Biobase.buildbin-libdir/Biobase/libs/x86_64/Biobase.so"