* installing *source* package 'Biobase' ...
** libs
x86_64-w64-mingw32-gcc -I"D:/biocbld/bbs-2.8-bioc/R/include" -O2 -Wall -std=gnu99 -c Rinit.c -o Rinit.o
x86_64-w64-mingw32-gcc -I"D:/biocbld/bbs-2.8-bioc/R/include" -O2 -Wall -std=gnu99 -c anyMissing.c -o anyMissing.o
x86_64-w64-mingw32-gcc -I"D:/biocbld/bbs-2.8-bioc/R/include" -O2 -Wall -std=gnu99 -c envir.c -o envir.o
x86_64-w64-mingw32-gcc -I"D:/biocbld/bbs-2.8-bioc/R/include" -O2 -Wall -std=gnu99 -c matchpt.c -o matchpt.o
x86_64-w64-mingw32-gcc -I"D:/biocbld/bbs-2.8-bioc/R/include" -O2 -Wall -std=gnu99 -c rowMedians.c -o rowMedians.o
x86_64-w64-mingw32-gcc -I"D:/biocbld/bbs-2.8-bioc/R/include" -O2 -Wall -std=gnu99 -c sublist_extract.c -o sublist_extract.o
x86_64-w64-mingw32-gcc -shared -s -static-libgcc -o Biobase.dll tmp.def Rinit.o anyMissing.o envir.o matchpt.o rowMedians.o sublist_extract.o -LD:/biocbld/bbs-2.8-bioc/R/bin/x64 -lR
installing to D:/biocbld/bbs-2.8-bioc/meat/Biobase.buildbin-libdir/Biobase/libs/x64
** R
** data
** inst
** preparing package for lazy loading
** help
*** installing help indices
** building package indices ...
** testing if installed package can be loaded
* MD5 sums
packaged installation of 'Biobase' as Biobase_2.12.2.zip
* DONE (Biobase)