>>>>>>>
>>>>>>> INSTALLATION WITH 'R CMD INSTALL --preclean --library=flowClust.buildbin-libdir flowClust_2.9.0.tar.gz'
>>>>>>>
* installing *source* package ‘flowClust’ ...
checking for pkg-config... /usr/local/bin/pkg-config
checking pkg-config is at least version 0.9.0... yes
checking for GSL... yes
configure: creating ./config.status
config.status: creating src/Makevars
** libs
*** arch - i386
gcc -arch i386 -std=gnu99 -I/Library/Frameworks/R.framework/Versions/2.13/Resources/include -I/Library/Frameworks/R.framework/Versions/2.13/Resources/include/i386 -I/usr/local/include -fPIC -g -O2 -Wall -pedantic -c BoxCox.c -o BoxCox.o
gcc -arch i386 -std=gnu99 -I/Library/Frameworks/R.framework/Versions/2.13/Resources/include -I/Library/Frameworks/R.framework/Versions/2.13/Resources/include/i386 -I/usr/local/include -fPIC -g -O2 -Wall -pedantic -c Nu.c -o Nu.o
gcc -arch i386 -std=gnu99 -I/Library/Frameworks/R.framework/Versions/2.13/Resources/include -I/Library/Frameworks/R.framework/Versions/2.13/Resources/include/i386 -I/usr/local/include -fPIC -g -O2 -Wall -pedantic -c flowClust.c -o flowClust.o
flowClust.c: In function ‘flowClust’:
flowClust.c:49: warning: ‘s’ may be used uninitialized in this function
flowClust.c:49: warning: ‘s2’ may be used uninitialized in this function
flowClust.c:51: warning: ‘s3’ may be used uninitialized in this function
gcc -arch i386 -std=gnu99 -I/Library/Frameworks/R.framework/Versions/2.13/Resources/include -I/Library/Frameworks/R.framework/Versions/2.13/Resources/include/i386 -I/usr/local/include -fPIC -g -O2 -Wall -pedantic -c flowClustGaussian.c -o flowClustGaussian.o
flowClustGaussian.c: In function ‘flowClustGaussian’:
flowClustGaussian.c:33: warning: ‘s’ may be used uninitialized in this function
gcc -arch i386 -std=gnu99 -I/Library/Frameworks/R.framework/Versions/2.13/Resources/include -I/Library/Frameworks/R.framework/Versions/2.13/Resources/include/i386 -I/usr/local/include -fPIC -g -O2 -Wall -pedantic -c ranMVNT.c -o ranMVNT.o
gcc -arch i386 -std=gnu99 -dynamiclib -Wl,-headerpad_max_install_names -undefined dynamic_lookup -single_module -multiply_defined suppress -L/usr/local/lib -o flowClust.so BoxCox.o Nu.o flowClust.o flowClustGaussian.o ranMVNT.o -L/usr/local/lib -lgsl -lgslcblas -lm -F/Library/Frameworks/R.framework/.. -framework R -Wl,-framework -Wl,CoreFoundation
installing to /Users/biocbuild/bbs-2.8-bioc/meat/flowClust.buildbin-libdir/flowClust/libs/i386
** R
** data
** inst
** preparing package for lazy loading
Welcome to Bioconductor
Vignettes contain introductory material. To view, type
'browseVignettes()'. To cite Bioconductor, see
'citation("Biobase")' and for packages 'citation(pkgname)'.
Loading required package: rrcov
Loading required package: robustbase
Loading required package: pcaPP
Loading required package: mvtnorm
Scalable Robust Estimators with High Breakdown Point (version 1.1-00)
Attaching package: 'flowCore'
The following object(s) are masked from 'package:stats':
alias, filter
Warning: Class "Ulist" is defined (with package slot ‘rrcov’) but no metadata object found to revise subclass information---not exported? Making a copy in package ‘flowClust’
Warning: Class "Uvector" is defined (with package slot ‘rrcov’) but no metadata object found to revise subclass information---not exported? Making a copy in package ‘flowClust’
** help
*** installing help indices
** building package indices ...
** testing if installed package can be loaded
* DONE (flowClust)
>>>>>>>
>>>>>>> FIXING LINKS FOR flowClust.buildbin-libdir/flowClust/libs/i386/flowClust.so
>>>>>>>
install_name_tool -change "/usr/local/lib/libgcc_s.1.dylib" "/Library/Frameworks/R.framework/Versions/2.13/Resources/lib/libgcc_s.1.dylib" "flowClust.buildbin-libdir/flowClust/libs/i386/flowClust.so"
install_name_tool -change "/usr/local/lib/libgfortran.2.dylib" "/Library/Frameworks/R.framework/Versions/2.13/Resources/lib/libgfortran.2.dylib" "flowClust.buildbin-libdir/flowClust/libs/i386/flowClust.so"
install_name_tool -change "/usr/local/lib/libreadline.5.2.dylib" "/Library/Frameworks/R.framework/Versions/2.13/Resources/lib/libreadline.5.2.dylib" "flowClust.buildbin-libdir/flowClust/libs/i386/flowClust.so"
install_name_tool -change "/usr/local/lib/libreadline.dylib" "/Library/Frameworks/R.framework/Versions/2.13/Resources/lib/libreadline.dylib" "flowClust.buildbin-libdir/flowClust/libs/i386/flowClust.so"
>>>>>>>
>>>>>>> INSTALLATION OF ppc LIBS WITH 'R_ARCH=/ppc R CMD INSTALL --preclean --library=flowClust.buildbin-libdir --libs-only flowClust_2.9.0.tar.gz'
>>>>>>>
* installing *source* package ‘flowClust’ ...
checking for pkg-config... /usr/local/bin/pkg-config
checking pkg-config is at least version 0.9.0... yes
checking for GSL... yes
configure: creating ./config.status
config.status: creating src/Makevars
** libs
*** arch - ppc
gcc -arch ppc -std=gnu99 -I/Library/Frameworks/R.framework/Versions/2.13/Resources/include -I/Library/Frameworks/R.framework/Versions/2.13/Resources/include/ppc -I/usr/local/include -fPIC -g -O2 -Wall -pedantic -c BoxCox.c -o BoxCox.o
gcc -arch ppc -std=gnu99 -I/Library/Frameworks/R.framework/Versions/2.13/Resources/include -I/Library/Frameworks/R.framework/Versions/2.13/Resources/include/ppc -I/usr/local/include -fPIC -g -O2 -Wall -pedantic -c Nu.c -o Nu.o
gcc -arch ppc -std=gnu99 -I/Library/Frameworks/R.framework/Versions/2.13/Resources/include -I/Library/Frameworks/R.framework/Versions/2.13/Resources/include/ppc -I/usr/local/include -fPIC -g -O2 -Wall -pedantic -c flowClust.c -o flowClust.o
flowClust.c: In function ‘flowClust’:
flowClust.c:49: warning: ‘s’ may be used uninitialized in this function
flowClust.c:49: warning: ‘s2’ may be used uninitialized in this function
flowClust.c:51: warning: ‘s3’ may be used uninitialized in this function
gcc -arch ppc -std=gnu99 -I/Library/Frameworks/R.framework/Versions/2.13/Resources/include -I/Library/Frameworks/R.framework/Versions/2.13/Resources/include/ppc -I/usr/local/include -fPIC -g -O2 -Wall -pedantic -c flowClustGaussian.c -o flowClustGaussian.o
flowClustGaussian.c: In function ‘flowClustGaussian’:
flowClustGaussian.c:33: warning: ‘s’ may be used uninitialized in this function
gcc -arch ppc -std=gnu99 -I/Library/Frameworks/R.framework/Versions/2.13/Resources/include -I/Library/Frameworks/R.framework/Versions/2.13/Resources/include/ppc -I/usr/local/include -fPIC -g -O2 -Wall -pedantic -c ranMVNT.c -o ranMVNT.o
gcc -arch ppc -std=gnu99 -dynamiclib -Wl,-headerpad_max_install_names -undefined dynamic_lookup -single_module -multiply_defined suppress -L/usr/local/lib -o flowClust.so BoxCox.o Nu.o flowClust.o flowClustGaussian.o ranMVNT.o -L/usr/local/lib -lgsl -lgslcblas -lm -F/Library/Frameworks/R.framework/.. -framework R -Wl,-framework -Wl,CoreFoundation
installing to /Users/biocbuild/bbs-2.8-bioc/meat/flowClust.buildbin-libdir/flowClust/libs/ppc
* DONE (flowClust)
>>>>>>>
>>>>>>> FIXING LINKS FOR flowClust.buildbin-libdir/flowClust/libs/ppc/flowClust.so
>>>>>>>
install_name_tool -change "/usr/local/lib/libgcc_s.1.dylib" "/Library/Frameworks/R.framework/Versions/2.13/Resources/lib/libgcc_s.1.dylib" "flowClust.buildbin-libdir/flowClust/libs/ppc/flowClust.so"
install_name_tool -change "/usr/local/lib/libgfortran.2.dylib" "/Library/Frameworks/R.framework/Versions/2.13/Resources/lib/libgfortran.2.dylib" "flowClust.buildbin-libdir/flowClust/libs/ppc/flowClust.so"
install_name_tool -change "/usr/local/lib/libreadline.5.2.dylib" "/Library/Frameworks/R.framework/Versions/2.13/Resources/lib/libreadline.5.2.dylib" "flowClust.buildbin-libdir/flowClust/libs/ppc/flowClust.so"
install_name_tool -change "/usr/local/lib/libreadline.dylib" "/Library/Frameworks/R.framework/Versions/2.13/Resources/lib/libreadline.dylib" "flowClust.buildbin-libdir/flowClust/libs/ppc/flowClust.so"
>>>>>>>
>>>>>>> INSTALLATION OF x86_64 LIBS WITH 'R_ARCH=/x86_64 R CMD INSTALL --preclean --library=flowClust.buildbin-libdir --libs-only flowClust_2.9.0.tar.gz'
>>>>>>>
* installing *source* package ‘flowClust’ ...
checking for pkg-config... /usr/local/bin/pkg-config
checking pkg-config is at least version 0.9.0... yes
checking for GSL... yes
configure: creating ./config.status
config.status: creating src/Makevars
** libs
*** arch - x86_64
gcc -arch x86_64 -std=gnu99 -I/Library/Frameworks/R.framework/Versions/2.13/Resources/include -I/Library/Frameworks/R.framework/Versions/2.13/Resources/include/x86_64 -I/usr/local/include -fPIC -g -O2 -Wall -pedantic -c BoxCox.c -o BoxCox.o
gcc -arch x86_64 -std=gnu99 -I/Library/Frameworks/R.framework/Versions/2.13/Resources/include -I/Library/Frameworks/R.framework/Versions/2.13/Resources/include/x86_64 -I/usr/local/include -fPIC -g -O2 -Wall -pedantic -c Nu.c -o Nu.o
gcc -arch x86_64 -std=gnu99 -I/Library/Frameworks/R.framework/Versions/2.13/Resources/include -I/Library/Frameworks/R.framework/Versions/2.13/Resources/include/x86_64 -I/usr/local/include -fPIC -g -O2 -Wall -pedantic -c flowClust.c -o flowClust.o
flowClust.c: In function ‘flowClust’:
flowClust.c:49: warning: ‘s’ may be used uninitialized in this function
flowClust.c:49: warning: ‘s2’ may be used uninitialized in this function
flowClust.c:51: warning: ‘s3’ may be used uninitialized in this function
gcc -arch x86_64 -std=gnu99 -I/Library/Frameworks/R.framework/Versions/2.13/Resources/include -I/Library/Frameworks/R.framework/Versions/2.13/Resources/include/x86_64 -I/usr/local/include -fPIC -g -O2 -Wall -pedantic -c flowClustGaussian.c -o flowClustGaussian.o
flowClustGaussian.c: In function ‘flowClustGaussian’:
flowClustGaussian.c:33: warning: ‘s’ may be used uninitialized in this function
gcc -arch x86_64 -std=gnu99 -I/Library/Frameworks/R.framework/Versions/2.13/Resources/include -I/Library/Frameworks/R.framework/Versions/2.13/Resources/include/x86_64 -I/usr/local/include -fPIC -g -O2 -Wall -pedantic -c ranMVNT.c -o ranMVNT.o
gcc -arch x86_64 -std=gnu99 -dynamiclib -Wl,-headerpad_max_install_names -undefined dynamic_lookup -single_module -multiply_defined suppress -L/usr/local/lib -o flowClust.so BoxCox.o Nu.o flowClust.o flowClustGaussian.o ranMVNT.o -L/usr/local/lib -lgsl -lgslcblas -lm -F/Library/Frameworks/R.framework/.. -framework R -Wl,-framework -Wl,CoreFoundation
installing to /Users/biocbuild/bbs-2.8-bioc/meat/flowClust.buildbin-libdir/flowClust/libs/x86_64
* DONE (flowClust)
>>>>>>>
>>>>>>> FIXING LINKS FOR flowClust.buildbin-libdir/flowClust/libs/x86_64/flowClust.so
>>>>>>>
install_name_tool -change "/usr/local/lib/libgcc_s.1.dylib" "/Library/Frameworks/R.framework/Versions/2.13/Resources/lib/libgcc_s.1.dylib" "flowClust.buildbin-libdir/flowClust/libs/x86_64/flowClust.so"
install_name_tool -change "/usr/local/lib/libgfortran.2.dylib" "/Library/Frameworks/R.framework/Versions/2.13/Resources/lib/libgfortran.2.dylib" "flowClust.buildbin-libdir/flowClust/libs/x86_64/flowClust.so"
install_name_tool -change "/usr/local/lib/libreadline.5.2.dylib" "/Library/Frameworks/R.framework/Versions/2.13/Resources/lib/libreadline.5.2.dylib" "flowClust.buildbin-libdir/flowClust/libs/x86_64/flowClust.so"
install_name_tool -change "/usr/local/lib/libreadline.dylib" "/Library/Frameworks/R.framework/Versions/2.13/Resources/lib/libreadline.dylib" "flowClust.buildbin-libdir/flowClust/libs/x86_64/flowClust.so"