Back to the "Multiple platform build/check report" | A B C D E [F] G H I J K L M N O P Q R S T U V W X Y Z |
Package 133/436 | Hostname | OS / Arch | BUILD | CHECK | BUILD BIN | ||||
flowClust 2.9.0 Raphael Gottardo
| lamb2 | Linux (openSUSE 11.2) / x86_64 | OK | WARNINGS | |||||
liverpool | Windows Server 2003 R2 (32-bit) / x64 | OK | WARNINGS | OK | |||||
gewurz | Windows Server 2008 R2 Enterprise (64-bit) / x64 | [ OK ] | WARNINGS | OK | |||||
pelham | Mac OS X Leopard (10.5.8) / i386 | OK | WARNINGS | OK | |||||
petty | Mac OS X Snow Leopard (10.6.4) / i386 | OK | WARNINGS | OK |
Package: flowClust |
Version: 2.9.0 |
Command: chmod a+r flowClust -R && D:\biocbld\bbs-2.8-bioc\R\bin\R.exe CMD build flowClust |
StartedAt: 2011-02-24 15:55:54 -0800 (Thu, 24 Feb 2011) |
EndedAt: 2011-02-24 15:57:42 -0800 (Thu, 24 Feb 2011) |
EllapsedTime: 108.1 seconds |
RetCode: 0 |
Status: OK |
PackageFile: flowClust_2.9.0.tar.gz |
PackageFileSize: 425.1 KiB |
* checking for file 'flowClust/DESCRIPTION' ... OK * preparing 'flowClust': * checking DESCRIPTION meta-information ... OK * cleaning src * installing the package to re-build vignettes * creating vignettes ... OK * cleaning src * checking for LF line-endings in source and make files * checking for empty or unneeded directories * building 'flowClust_2.9.0.tar.gz'