Back to the "Multiple platform build/check report" | [A] B C D E F G H I J K L M N O P Q R S T U V W X Y Z |
Package 28/436 | Hostname | OS / Arch | BUILD | CHECK | BUILD BIN | ||||
apComplex 2.17.0 Denise Scholtens
| lamb2 | Linux (openSUSE 11.2) / x86_64 | OK | OK | |||||
liverpool | Windows Server 2003 R2 (32-bit) / x64 | [ OK ] | OK | OK | |||||
gewurz | Windows Server 2008 R2 Enterprise (64-bit) / x64 | OK | OK | OK | |||||
pelham | Mac OS X Leopard (10.5.8) / i386 | OK | OK | OK | |||||
petty | Mac OS X Snow Leopard (10.6.4) / i386 | OK | OK | OK |
Package: apComplex |
Version: 2.17.0 |
Command: chmod a+r apComplex -R && E:\biocbld\bbs-2.8-bioc\R\bin\R.exe CMD build apComplex |
StartedAt: 2011-02-24 14:30:30 -0800 (Thu, 24 Feb 2011) |
EndedAt: 2011-02-24 14:30:46 -0800 (Thu, 24 Feb 2011) |
EllapsedTime: 16.5 seconds |
RetCode: 0 |
Status: OK |
PackageFile: apComplex_2.17.0.tar.gz |
PackageFileSize: 775.9 KiB |
* checking for file 'apComplex/DESCRIPTION' ... OK * preparing 'apComplex': * checking DESCRIPTION meta-information ... OK * installing the package to re-build vignettes * creating vignettes ... OK * checking for LF line-endings in source and make files * checking for empty or unneeded directories * building 'apComplex_2.17.0.tar.gz'