Back to the "Multiple platform build/check report" | [A] B C D E F G H I J K L M N O P Q R S T U V W X Y Z |
Package 28/436 | Hostname | OS / Arch | BUILD | CHECK | BUILD BIN | ||||
apComplex 2.17.0 Denise Scholtens
| lamb2 | Linux (openSUSE 11.2) / x86_64 | OK | OK | |||||
liverpool | Windows Server 2003 R2 (32-bit) / x64 | OK | OK | OK | |||||
gewurz | Windows Server 2008 R2 Enterprise (64-bit) / x64 | OK | OK | [ OK ] | |||||
pelham | Mac OS X Leopard (10.5.8) / i386 | OK | OK | OK | |||||
petty | Mac OS X Snow Leopard (10.6.4) / i386 | OK | OK | OK |
Package: apComplex |
Version: 2.17.0 |
Command: D:\biocbld\bbs-2.8-bioc\R\bin\R.exe CMD INSTALL --build --library=apComplex.buildbin-libdir apComplex_2.17.0.tar.gz |
StartedAt: 2011-02-24 22:22:34 -0800 (Thu, 24 Feb 2011) |
EndedAt: 2011-02-24 22:22:44 -0800 (Thu, 24 Feb 2011) |
EllapsedTime: 10.4 seconds |
RetCode: 0 |
Status: OK |
PackageFile: apComplex_2.17.0.zip |
PackageFileSize: 827.8 KiB |
* installing *source* package 'apComplex' ... Using auto-selected zip option '--use-zip-data' ** R ** data ** inst ** preparing package for lazy loading Loading required package: DBI Warning in fun(...) : Rgraphviz built with Graphviz version 2.20.3. Found installed Graphviz version 2.25.20090912.445. This _may_ cause problems. ** help *** installing help indices ** building package indices ... ** testing if installed package can be loaded * MD5 sums packaged installation of 'apComplex' as apComplex_2.17.0.zip * DONE (apComplex)