* checking for file 'idiogram/DESCRIPTION' ... OK
* preparing 'idiogram':
* checking DESCRIPTION meta-information ... OK
* installing the package to re-build vignettes
* installing *source* package 'idiogram' ...
** R
** data
** moving datasets to lazyload DB
** inst
** preparing package for lazy loading
Welcome to Bioconductor
Vignettes contain introductory material. To view, type
'openVignette()'. To cite Bioconductor, see
'citation("Biobase")' and for packages 'citation(pkgname)'.
Loading required package: AnnotationDbi
** help
*** installing help indices
** building package indices ...
** testing if installed package can be loaded
* DONE (idiogram)
* creating vignettes ... OK
* removing junk files
* checking for LF line-endings in source and make files
* checking for empty or unneeded directories
* building 'idiogram_1.24.0.tar.gz'