Back to the "Multiple platform build/check report" | A B C D E F G H [I] J K L M N O P Q R S T U V W X Y Z |
Package 196/389 | Hostname | OS / Arch | BUILD | CHECK | BUILD BIN | ||||
idiogram 1.24.0 Karl J. Dykema
| wilson1 | Linux (openSUSE 11.1) / x86_64 | OK | OK | |||||
liverpool | Windows Server 2003 R2 (32-bit) / x64 | OK | OK | OK | |||||
gewurz | Windows Server 2008 R2 Enterprise (64-bit) / x64 | OK | OK | [ OK ] | |||||
pelham | Mac OS X Leopard (10.5.8) / i386 | OK | OK | OK |
Package: idiogram |
Version: 1.24.0 |
Command: D:\biocbld\bbs-2.6-bioc\R\bin\R.exe CMD INSTALL --build --library=idiogram.buildbin-libdir idiogram_1.24.0.tar.gz |
StartedAt: 2010-10-04 19:29:37 -0700 (Mon, 04 Oct 2010) |
EndedAt: 2010-10-04 19:29:55 -0700 (Mon, 04 Oct 2010) |
EllapsedTime: 18.2 seconds |
RetCode: 0 |
Status: OK |
PackageFile: idiogram_1.24.0.zip |
PackageFileSize: 3.696 MiB |
* installing *source* package 'idiogram' ... ** R ** data ** moving datasets to lazyload DB ** inst ** preparing package for lazy loading Welcome to Bioconductor Vignettes contain introductory material. To view, type 'openVignette()'. To cite Bioconductor, see 'citation("Biobase")' and for packages 'citation(pkgname)'. Loading required package: AnnotationDbi ** help *** installing help indices ** building package indices ... ** testing if installed package can be loaded * MD5 sums packaged installation of 'idiogram' as idiogram_1.24.0.zip * DONE (idiogram)