* checking for file 'MANOR/DESCRIPTION' ... OK
* preparing 'MANOR':
* checking DESCRIPTION meta-information ... OK
* cleaning src
* installing the package to re-build vignettes
* installing *source* package 'MANOR' ...
** libs
gcc -std=gnu99 -I/home/biocbuild/bbs-2.6-bioc/R/include -I/usr/local/include -fpic -g -O2 -c Rnem_arg.c -o Rnem_arg.o
gcc -std=gnu99 -I/home/biocbuild/bbs-2.6-bioc/R/include -I/usr/local/include -fpic -g -O2 -c Rnem_exe.c -o Rnem_exe.o
Rnem_exe.c: In function 'MakeErrinfo':
Rnem_exe.c:216: warning: cast from pointer to integer of different size
gcc -std=gnu99 -I/home/biocbuild/bbs-2.6-bioc/R/include -I/usr/local/include -fpic -g -O2 -c exememo.c -o exememo.o
gcc -std=gnu99 -I/home/biocbuild/bbs-2.6-bioc/R/include -I/usr/local/include -fpic -g -O2 -c lib_io.c -o lib_io.o
gcc -std=gnu99 -I/home/biocbuild/bbs-2.6-bioc/R/include -I/usr/local/include -fpic -g -O2 -c nem_alg.c -o nem_alg.o
gcc -std=gnu99 -I/home/biocbuild/bbs-2.6-bioc/R/include -I/usr/local/include -fpic -g -O2 -c nem_hlp.c -o nem_hlp.o
gcc -std=gnu99 -I/home/biocbuild/bbs-2.6-bioc/R/include -I/usr/local/include -fpic -g -O2 -c nem_mod.c -o nem_mod.o
gcc -std=gnu99 -I/home/biocbuild/bbs-2.6-bioc/R/include -I/usr/local/include -fpic -g -O2 -c nem_nei.c -o nem_nei.o
gcc -std=gnu99 -I/home/biocbuild/bbs-2.6-bioc/R/include -I/usr/local/include -fpic -g -O2 -c nem_rnd.c -o nem_rnd.o
gcc -std=gnu99 -I/home/biocbuild/bbs-2.6-bioc/R/include -I/usr/local/include -fpic -g -O2 -c nem_ver.c -o nem_ver.o
gcc -std=gnu99 -shared -L/usr/local/lib64 -o MANOR.so Rnem_arg.o Rnem_exe.o exememo.o lib_io.o nem_alg.o nem_hlp.o nem_mod.o nem_nei.o nem_rnd.o nem_ver.o -L/home/biocbuild/bbs-2.6-bioc/R/lib -lR
installing to /tmp/Rinst221744429/MANOR/libs
** R
** data
** inst
** preparing package for lazy loading
######################################################################################
Have fun with GLAD
For smoothing it is possible to use either
the AWS algorithm (Polzehl and Spokoiny, 2002)
or the HaarSeg algorithm (Ben-Yaacov and Eldar, Bioinformatics, 2008)
If you use the package with AWS, please cite:
Hupe et al. (Bioinformatics, 2004) and Polzehl and Spokoiny (2002)
If you use the package with HaarSeg, please cite:
Hupe et al. (Bioinformatics, 2004) and (Ben-Yaacov and Eldar, Bioinformatics, 2008)
For fast computation it is recommanded to use
the daglad function with smoothfunc=haarseg
######################################################################################
New options are available in daglad: see help for details.
** help
*** installing help indices
** building package indices ...
** testing if installed package can be loaded
* DONE (MANOR)
* creating vignettes ... OK
* cleaning src
* removing junk files
* checking for LF line-endings in source and make files
* checking for empty or unneeded directories
* building 'MANOR_1.20.0.tar.gz'