* checking for file 'MANOR/DESCRIPTION' ... OK
* preparing 'MANOR':
* checking DESCRIPTION meta-information ... OK
* cleaning src
* installing the package to re-build vignettes
* installing *source* package ‘MANOR’ ...
** libs
*** arch - i386
gcc -arch i386 -std=gnu99 -I/Library/Frameworks/R.framework/Versions/2.11/Resources/include -I/Library/Frameworks/R.framework/Versions/2.11/Resources/include/i386 -I/usr/local/include -fPIC -g -O2 -Wall -pedantic -c Rnem_arg.c -o Rnem_arg.o
gcc -arch i386 -std=gnu99 -I/Library/Frameworks/R.framework/Versions/2.11/Resources/include -I/Library/Frameworks/R.framework/Versions/2.11/Resources/include/i386 -I/usr/local/include -fPIC -g -O2 -Wall -pedantic -c Rnem_exe.c -o Rnem_exe.o
gcc -arch i386 -std=gnu99 -I/Library/Frameworks/R.framework/Versions/2.11/Resources/include -I/Library/Frameworks/R.framework/Versions/2.11/Resources/include/i386 -I/usr/local/include -fPIC -g -O2 -Wall -pedantic -c exememo.c -o exememo.o
gcc -arch i386 -std=gnu99 -I/Library/Frameworks/R.framework/Versions/2.11/Resources/include -I/Library/Frameworks/R.framework/Versions/2.11/Resources/include/i386 -I/usr/local/include -fPIC -g -O2 -Wall -pedantic -c lib_io.c -o lib_io.o
lib_io.c: In function ‘CountLinesColumns’:
lib_io.c:354: warning: ‘mincols’ may be used uninitialized in this function
gcc -arch i386 -std=gnu99 -I/Library/Frameworks/R.framework/Versions/2.11/Resources/include -I/Library/Frameworks/R.framework/Versions/2.11/Resources/include/i386 -I/usr/local/include -fPIC -g -O2 -Wall -pedantic -c nem_alg.c -o nem_alg.o
nem_alg.c:85:1: warning: "MAXFLOAT" redefined
In file included from /usr/include/math.h:28,
from nem_alg.c:73:
/usr/include/architecture/i386/math.h:542:1: warning: this is the location of the previous definition
gcc -arch i386 -std=gnu99 -I/Library/Frameworks/R.framework/Versions/2.11/Resources/include -I/Library/Frameworks/R.framework/Versions/2.11/Resources/include/i386 -I/usr/local/include -fPIC -g -O2 -Wall -pedantic -c nem_hlp.c -o nem_hlp.o
gcc -arch i386 -std=gnu99 -I/Library/Frameworks/R.framework/Versions/2.11/Resources/include -I/Library/Frameworks/R.framework/Versions/2.11/Resources/include/i386 -I/usr/local/include -fPIC -g -O2 -Wall -pedantic -c nem_mod.c -o nem_mod.o
nem_mod.c:51:1: warning: "MAXFLOAT" redefined
In file included from /usr/include/math.h:28,
from nem_mod.c:39:
/usr/include/architecture/i386/math.h:542:1: warning: this is the location of the previous definition
gcc -arch i386 -std=gnu99 -I/Library/Frameworks/R.framework/Versions/2.11/Resources/include -I/Library/Frameworks/R.framework/Versions/2.11/Resources/include/i386 -I/usr/local/include -fPIC -g -O2 -Wall -pedantic -c nem_nei.c -o nem_nei.o
gcc -arch i386 -std=gnu99 -I/Library/Frameworks/R.framework/Versions/2.11/Resources/include -I/Library/Frameworks/R.framework/Versions/2.11/Resources/include/i386 -I/usr/local/include -fPIC -g -O2 -Wall -pedantic -c nem_rnd.c -o nem_rnd.o
gcc -arch i386 -std=gnu99 -I/Library/Frameworks/R.framework/Versions/2.11/Resources/include -I/Library/Frameworks/R.framework/Versions/2.11/Resources/include/i386 -I/usr/local/include -fPIC -g -O2 -Wall -pedantic -c nem_ver.c -o nem_ver.o
gcc -arch i386 -std=gnu99 -dynamiclib -Wl,-headerpad_max_install_names -undefined dynamic_lookup -single_module -multiply_defined suppress -L/usr/local/lib -o MANOR.so Rnem_arg.o Rnem_exe.o exememo.o lib_io.o nem_alg.o nem_hlp.o nem_mod.o nem_nei.o nem_rnd.o nem_ver.o -F/Library/Frameworks/R.framework/.. -framework R -Wl,-framework -Wl,CoreFoundation
installing to /private/tmp/Rinst4170172336/MANOR/libs/i386
*** arch - ppc
gcc -arch ppc -std=gnu99 -I/Library/Frameworks/R.framework/Versions/2.11/Resources/include -I/Library/Frameworks/R.framework/Versions/2.11/Resources/include/ppc -I/usr/local/include -fPIC -g -O2 -Wall -pedantic -c Rnem_arg.c -o Rnem_arg.o
gcc -arch ppc -std=gnu99 -I/Library/Frameworks/R.framework/Versions/2.11/Resources/include -I/Library/Frameworks/R.framework/Versions/2.11/Resources/include/ppc -I/usr/local/include -fPIC -g -O2 -Wall -pedantic -c Rnem_exe.c -o Rnem_exe.o
gcc -arch ppc -std=gnu99 -I/Library/Frameworks/R.framework/Versions/2.11/Resources/include -I/Library/Frameworks/R.framework/Versions/2.11/Resources/include/ppc -I/usr/local/include -fPIC -g -O2 -Wall -pedantic -c exememo.c -o exememo.o
gcc -arch ppc -std=gnu99 -I/Library/Frameworks/R.framework/Versions/2.11/Resources/include -I/Library/Frameworks/R.framework/Versions/2.11/Resources/include/ppc -I/usr/local/include -fPIC -g -O2 -Wall -pedantic -c lib_io.c -o lib_io.o
lib_io.c: In function ‘CountLinesColumns’:
lib_io.c:354: warning: ‘mincols’ may be used uninitialized in this function
gcc -arch ppc -std=gnu99 -I/Library/Frameworks/R.framework/Versions/2.11/Resources/include -I/Library/Frameworks/R.framework/Versions/2.11/Resources/include/ppc -I/usr/local/include -fPIC -g -O2 -Wall -pedantic -c nem_alg.c -o nem_alg.o
nem_alg.c:85:1: warning: "MAXFLOAT" redefined
In file included from /usr/include/math.h:26,
from nem_alg.c:73:
/usr/include/architecture/ppc/math.h:695:1: warning: this is the location of the previous definition
gcc -arch ppc -std=gnu99 -I/Library/Frameworks/R.framework/Versions/2.11/Resources/include -I/Library/Frameworks/R.framework/Versions/2.11/Resources/include/ppc -I/usr/local/include -fPIC -g -O2 -Wall -pedantic -c nem_hlp.c -o nem_hlp.o
gcc -arch ppc -std=gnu99 -I/Library/Frameworks/R.framework/Versions/2.11/Resources/include -I/Library/Frameworks/R.framework/Versions/2.11/Resources/include/ppc -I/usr/local/include -fPIC -g -O2 -Wall -pedantic -c nem_mod.c -o nem_mod.o
nem_mod.c:51:1: warning: "MAXFLOAT" redefined
In file included from /usr/include/math.h:26,
from nem_mod.c:39:
/usr/include/architecture/ppc/math.h:695:1: warning: this is the location of the previous definition
gcc -arch ppc -std=gnu99 -I/Library/Frameworks/R.framework/Versions/2.11/Resources/include -I/Library/Frameworks/R.framework/Versions/2.11/Resources/include/ppc -I/usr/local/include -fPIC -g -O2 -Wall -pedantic -c nem_nei.c -o nem_nei.o
gcc -arch ppc -std=gnu99 -I/Library/Frameworks/R.framework/Versions/2.11/Resources/include -I/Library/Frameworks/R.framework/Versions/2.11/Resources/include/ppc -I/usr/local/include -fPIC -g -O2 -Wall -pedantic -c nem_rnd.c -o nem_rnd.o
gcc -arch ppc -std=gnu99 -I/Library/Frameworks/R.framework/Versions/2.11/Resources/include -I/Library/Frameworks/R.framework/Versions/2.11/Resources/include/ppc -I/usr/local/include -fPIC -g -O2 -Wall -pedantic -c nem_ver.c -o nem_ver.o
gcc -arch ppc -std=gnu99 -dynamiclib -Wl,-headerpad_max_install_names -undefined dynamic_lookup -single_module -multiply_defined suppress -L/usr/local/lib -o MANOR.so Rnem_arg.o Rnem_exe.o exememo.o lib_io.o nem_alg.o nem_hlp.o nem_mod.o nem_nei.o nem_rnd.o nem_ver.o -F/Library/Frameworks/R.framework/.. -framework R -Wl,-framework -Wl,CoreFoundation
installing to /private/tmp/Rinst4170172336/MANOR/libs/ppc
*** arch - x86_64
gcc -arch x86_64 -std=gnu99 -I/Library/Frameworks/R.framework/Versions/2.11/Resources/include -I/Library/Frameworks/R.framework/Versions/2.11/Resources/include/x86_64 -I/usr/local/include -fPIC -g -O2 -Wall -pedantic -c Rnem_arg.c -o Rnem_arg.o
gcc -arch x86_64 -std=gnu99 -I/Library/Frameworks/R.framework/Versions/2.11/Resources/include -I/Library/Frameworks/R.framework/Versions/2.11/Resources/include/x86_64 -I/usr/local/include -fPIC -g -O2 -Wall -pedantic -c Rnem_exe.c -o Rnem_exe.o
Rnem_exe.c: In function ‘MakeErrinfo’:
Rnem_exe.c:216: warning: cast from pointer to integer of different size
gcc -arch x86_64 -std=gnu99 -I/Library/Frameworks/R.framework/Versions/2.11/Resources/include -I/Library/Frameworks/R.framework/Versions/2.11/Resources/include/x86_64 -I/usr/local/include -fPIC -g -O2 -Wall -pedantic -c exememo.c -o exememo.o
gcc -arch x86_64 -std=gnu99 -I/Library/Frameworks/R.framework/Versions/2.11/Resources/include -I/Library/Frameworks/R.framework/Versions/2.11/Resources/include/x86_64 -I/usr/local/include -fPIC -g -O2 -Wall -pedantic -c lib_io.c -o lib_io.o
lib_io.c: In function ‘CountLinesColumns’:
lib_io.c:354: warning: ‘mincols’ may be used uninitialized in this function
gcc -arch x86_64 -std=gnu99 -I/Library/Frameworks/R.framework/Versions/2.11/Resources/include -I/Library/Frameworks/R.framework/Versions/2.11/Resources/include/x86_64 -I/usr/local/include -fPIC -g -O2 -Wall -pedantic -c nem_alg.c -o nem_alg.o
nem_alg.c:85:1: warning: "MAXFLOAT" redefined
In file included from /usr/include/math.h:28,
from nem_alg.c:73:
/usr/include/architecture/i386/math.h:542:1: warning: this is the location of the previous definition
gcc -arch x86_64 -std=gnu99 -I/Library/Frameworks/R.framework/Versions/2.11/Resources/include -I/Library/Frameworks/R.framework/Versions/2.11/Resources/include/x86_64 -I/usr/local/include -fPIC -g -O2 -Wall -pedantic -c nem_hlp.c -o nem_hlp.o
gcc -arch x86_64 -std=gnu99 -I/Library/Frameworks/R.framework/Versions/2.11/Resources/include -I/Library/Frameworks/R.framework/Versions/2.11/Resources/include/x86_64 -I/usr/local/include -fPIC -g -O2 -Wall -pedantic -c nem_mod.c -o nem_mod.o
nem_mod.c:51:1: warning: "MAXFLOAT" redefined
In file included from /usr/include/math.h:28,
from nem_mod.c:39:
/usr/include/architecture/i386/math.h:542:1: warning: this is the location of the previous definition
gcc -arch x86_64 -std=gnu99 -I/Library/Frameworks/R.framework/Versions/2.11/Resources/include -I/Library/Frameworks/R.framework/Versions/2.11/Resources/include/x86_64 -I/usr/local/include -fPIC -g -O2 -Wall -pedantic -c nem_nei.c -o nem_nei.o
gcc -arch x86_64 -std=gnu99 -I/Library/Frameworks/R.framework/Versions/2.11/Resources/include -I/Library/Frameworks/R.framework/Versions/2.11/Resources/include/x86_64 -I/usr/local/include -fPIC -g -O2 -Wall -pedantic -c nem_rnd.c -o nem_rnd.o
gcc -arch x86_64 -std=gnu99 -I/Library/Frameworks/R.framework/Versions/2.11/Resources/include -I/Library/Frameworks/R.framework/Versions/2.11/Resources/include/x86_64 -I/usr/local/include -fPIC -g -O2 -Wall -pedantic -c nem_ver.c -o nem_ver.o
gcc -arch x86_64 -std=gnu99 -dynamiclib -Wl,-headerpad_max_install_names -undefined dynamic_lookup -single_module -multiply_defined suppress -L/usr/local/lib -o MANOR.so Rnem_arg.o Rnem_exe.o exememo.o lib_io.o nem_alg.o nem_hlp.o nem_mod.o nem_nei.o nem_rnd.o nem_ver.o -F/Library/Frameworks/R.framework/.. -framework R -Wl,-framework -Wl,CoreFoundation
installing to /private/tmp/Rinst4170172336/MANOR/libs/x86_64
** R
** data
** inst
** preparing package for lazy loading
######################################################################################
Have fun with GLAD
For smoothing it is possible to use either
the AWS algorithm (Polzehl and Spokoiny, 2002)
or the HaarSeg algorithm (Ben-Yaacov and Eldar, Bioinformatics, 2008)
If you use the package with AWS, please cite:
Hupe et al. (Bioinformatics, 2004) and Polzehl and Spokoiny (2002)
If you use the package with HaarSeg, please cite:
Hupe et al. (Bioinformatics, 2004) and (Ben-Yaacov and Eldar, Bioinformatics, 2008)
For fast computation it is recommanded to use
the daglad function with smoothfunc=haarseg
######################################################################################
New options are available in daglad: see help for details.
** help
*** installing help indices
** building package indices ...
** testing if installed package can be loaded
* DONE (MANOR)
* creating vignettes ... OK
* cleaning src
* removing junk files
* checking for LF line-endings in source and make files
* checking for empty or unneeded directories
* building 'MANOR_1.20.0.tar.gz'