Back to the "Multiple platform build/check report" | A B C D E F G H I J K L M N O P Q R S T U V W [X] Y Z |
This page was generated on 2014-04-05 09:52:11 -0700 (Sat, 05 Apr 2014).
Package 746/750 | Hostname | OS / Arch | BUILD | CHECK | BUILD BIN | ||||
xmapbridge 1.20.0 Tim Yates
| zin1 | Linux (Ubuntu 12.04.4 LTS) / x86_64 | OK | OK | |||||
moscato1 | Windows Server 2008 R2 Enterprise SP1 (64-bit) / x64 | OK | OK | OK | |||||
perceval | Mac OS X Snow Leopard (10.6.8) / x86_64 | OK | OK | [ OK ] |
Package: xmapbridge |
Version: 1.20.0 |
Command: rm -rf xmapbridge.buildbin-libdir && mkdir xmapbridge.buildbin-libdir && /Users/biocbuild/BBS/utils/build-universal.sh xmapbridge_1.20.0.tar.gz /Library/Frameworks/R.framework/Versions/Current/Resources/bin/R xmapbridge.buildbin-libdir |
StartedAt: 2014-04-05 05:42:49 -0700 (Sat, 05 Apr 2014) |
EndedAt: 2014-04-05 05:42:57 -0700 (Sat, 05 Apr 2014) |
EllapsedTime: 7.5 seconds |
RetCode: 0 |
Status: OK |
PackageFile: xmapbridge_1.20.0.tgz |
PackageFileSize: 1.551 MiB |
>>>>>>> >>>>>>> INSTALLATION WITH 'R CMD INSTALL --preclean --no-multiarch --library=xmapbridge.buildbin-libdir xmapbridge_1.20.0.tar.gz' >>>>>>> * installing *source* package ‘xmapbridge’ ... ** R ** data ** inst ** preparing package for lazy loading ** help *** installing help indices ** building package indices ** installing vignettes ** testing if installed package can be loaded * DONE (xmapbridge)