adding: CITATION (188 bytes security) (deflated 58%)
adding: data/ (256 bytes security) (stored 0%)
adding: data/xmapbridge.rda (188 bytes security) (deflated 2%)
adding: DESCRIPTION (188 bytes security) (deflated 39%)
adding: doc/ (256 bytes security) (stored 0%)
adding: doc/index.html (188 bytes security) (deflated 58%)
adding: doc/xmapbridge.pdf (188 bytes security) (deflated 2%)
adding: doc/xmapbridge.R (188 bytes security) (deflated 84%)
adding: doc/xmapbridge.Rnw (188 bytes security) (deflated 67%)
adding: help/ (256 bytes security) (stored 0%)
adding: help/aliases.rds (188 bytes security) (stored 0%)
adding: help/AnIndex (188 bytes security) (deflated 78%)
adding: help/paths.rds (188 bytes security) (stored 0%)
adding: help/xmapbridge.rdb (188 bytes security) (deflated 1%)
adding: help/xmapbridge.rdx (188 bytes security) (stored 0%)
adding: html/ (256 bytes security) (stored 0%)
adding: html/00Index.html (188 bytes security) (deflated 82%)
adding: html/R.css (188 bytes security) (deflated 70%)
adding: INDEX (188 bytes security) (deflated 49%)
adding: MD5 (188 bytes security) (deflated 43%)
adding: Meta/ (256 bytes security) (stored 0%)
adding: Meta/data.rds (188 bytes security) (stored 0%)
adding: Meta/hsearch.rds (188 bytes security) (stored 0%)
adding: Meta/links.rds (188 bytes security) (stored 0%)
adding: Meta/nsInfo.rds (188 bytes security) (stored 0%)
adding: Meta/package.rds (188 bytes security) (stored 0%)
adding: Meta/Rd.rds (188 bytes security) (stored 0%)
adding: Meta/vignette.rds (188 bytes security) (stored 0%)
adding: NAMESPACE (188 bytes security) (deflated 66%)
adding: R/ (256 bytes security) (stored 0%)
adding: R/xmapbridge (188 bytes security) (deflated 41%)
adding: R/xmapbridge.rdb (188 bytes security) (deflated 21%)
adding: R/xmapbridge.rdx (188 bytes security) (stored 0%)
adding: unitTests/ (256 bytes security) (stored 0%)
adding: unitTests/Makefile (188 bytes security) (deflated 25%)
adding: unitTests/report.html (188 bytes security) (deflated 72%)
adding: unitTests/report.txt (188 bytes security) (deflated 59%)
adding: unitTests/reportSummary.txt (188 bytes security) (deflated 41%)
adding: unitTests/runit.bridgeTests.R (188 bytes security) (deflated 81%)