BioC 2.13: CHECK report for OSAT on perceval
This page was generated on 2014-04-05 09:52:52 -0700 (Sat, 05 Apr 2014).
OSAT 1.10.0 Li Yan
Snapshot Date: 2014-04-04 16:20:29 -0700 (Fri, 04 Apr 2014) | URL: https://hedgehog.fhcrc.org/bioconductor/branches/RELEASE_2_13/madman/Rpacks/OSAT | Last Changed Rev: 81642 / Revision: 88450 | Last Changed Date: 2013-10-14 14:29:21 -0700 (Mon, 14 Oct 2013) |
| zin1 | Linux (Ubuntu 12.04.4 LTS) / x86_64 | OK | OK | |
moscato1 | Windows Server 2008 R2 Enterprise SP1 (64-bit) / x64 | OK | OK | OK |
perceval | Mac OS X Snow Leopard (10.6.8) / x86_64 | OK | [ OK ] | OK |
Summary
Package: OSAT |
Version: 1.10.0 |
Command: /Library/Frameworks/R.framework/Versions/Current/Resources/bin/R CMD check --no-vignettes --timings --no-multiarch OSAT_1.10.0.tar.gz |
StartedAt: 2014-04-05 03:08:55 -0700 (Sat, 05 Apr 2014) |
EndedAt: 2014-04-05 03:09:45 -0700 (Sat, 05 Apr 2014) |
EllapsedTime: 50.4 seconds |
RetCode: 0 |
Status: OK |
CheckDir: OSAT.Rcheck |
Warnings: 0 |
Command output
* using log directory ‘/Users/biocbuild/bbs-2.13-bioc/meat/OSAT.Rcheck’
* using R version 3.0.3 (2014-03-06)
* using platform: x86_64-apple-darwin10.8.0 (64-bit)
* using session charset: UTF-8
* using option ‘--no-vignettes’
* checking for file ‘OSAT/DESCRIPTION’ ... OK
* checking extension type ... Package
* this is package ‘OSAT’ version ‘1.10.0’
* checking package namespace information ... OK
* checking package dependencies ... OK
* checking if this is a source package ... OK
* checking if there is a namespace ... OK
* checking for hidden files and directories ... OK
* checking for portable file names ... OK
* checking for sufficient/correct file permissions ... OK
* checking whether package ‘OSAT’ can be installed ... [3s/3s] OK
* checking installed package size ... OK
* checking package directory ... OK
* checking ‘build’ directory ... OK
* checking DESCRIPTION meta-information ... OK
* checking top-level files ... OK
* checking for left-over files ... OK
* checking index information ... OK
* checking package subdirectories ... OK
* checking R files for non-ASCII characters ... OK
* checking R files for syntax errors ... OK
* checking whether the package can be loaded ... OK
* checking whether the package can be loaded with stated dependencies ... OK
* checking whether the package can be unloaded cleanly ... OK
* checking whether the namespace can be loaded with stated dependencies ... OK
* checking whether the namespace can be unloaded cleanly ... OK
* checking dependencies in R code ... OK
* checking S3 generic/method consistency ... OK
* checking replacement functions ... OK
* checking foreign function calls ... OK
* checking R code for possible problems ... OK
* checking Rd files ... OK
* checking Rd metadata ... OK
* checking Rd cross-references ... OK
* checking for missing documentation entries ... OK
* checking for code/documentation mismatches ... OK
* checking Rd \usage sections ... OK
* checking Rd contents ... OK
* checking for unstated dependencies in examples ... OK
* checking contents of ‘data’ directory ... OK
* checking data for non-ASCII characters ... OK
* checking data for ASCII and uncompressed saves ... OK
* checking sizes of PDF files under ‘inst/doc’ ... OK
* checking installed files from ‘inst/doc’ ... OK
* checking for old-style vignette sources ... NOTE
Vignette sources only in ‘inst/doc’:
‘OSAT.Rnw’
A ‘vignettes’ directory will be required as from R 3.1.0
* checking examples ... [15s/15s] OK
* checking for unstated dependencies in vignettes ... OK
* checking package vignettes in ‘inst/doc’ ... OK
* checking running R code from vignettes ... SKIPPED
* checking re-building of vignette outputs ... SKIPPED
* checking PDF version of manual ... OK
NOTE: There was 1 note.
See
‘/Users/biocbuild/bbs-2.13-bioc/meat/OSAT.Rcheck/00check.log’
for details.
OSAT.Rcheck/00install.out:
* installing *source* package ‘OSAT’ ...
** R
** data
** inst
** preparing package for lazy loading
** help
*** installing help indices
** building package indices
** installing vignettes
** testing if installed package can be loaded
* DONE (OSAT)
OSAT.Rcheck/OSAT-Ex.timings:
name | user | system | elapsed
|
BeadChip-class | 0.026 | 0.002 | 0.029 |
|
BeadPlate-class | 0.021 | 0.001 | 0.023 |
|
MSAroboticPlate-class | 0.678 | 0.019 | 0.706 |
|
QC | 2.112 | 0.016 | 2.135 |
|
create.optimized.setup | 2.300 | 0.009 | 2.320 |
|
example.setup | 0.068 | 0.005 | 0.073 |
|
gContainer-class | 0.039 | 0.001 | 0.041 |
|
gExperimentSetup-class | 0.181 | 0.004 | 0.188 |
|
gSample-class | 0.035 | 0.002 | 0.037 |
|
gSlide-class | 0.010 | 0.001 | 0.012 |
|
get.experiment.setup | 2.446 | 0.010 | 2.485 |
|
multi.barplot | 0.030 | 0.002 | 0.033 |
|
multi.chisq.test | 0.029 | 0.001 | 0.032 |
|
optimal.block | 3.453 | 0.018 | 3.536 |
|
optimal.shuffle | 2.555 | 0.012 | 2.616 |
|