Back to the "Multiple platform build/check report" | A B C D E F [G] H I J K L M N O P Q R S T U V W X Y Z |
This page was generated on 2014-04-05 09:52:37 -0700 (Sat, 05 Apr 2014).
Package 333/750 | Hostname | OS / Arch | BUILD | CHECK | BUILD BIN | ||||
GSVA 1.10.3 Justin Guinney
| zin1 | Linux (Ubuntu 12.04.4 LTS) / x86_64 | OK | OK | |||||
moscato1 | Windows Server 2008 R2 Enterprise SP1 (64-bit) / x64 | OK | OK | OK | |||||
perceval | Mac OS X Snow Leopard (10.6.8) / x86_64 | [ OK ] | OK | OK |
Package: GSVA |
Version: 1.10.3 |
Command: /Library/Frameworks/R.framework/Versions/Current/Resources/bin/R CMD build --keep-empty-dirs --no-resave-data GSVA |
StartedAt: 2014-04-04 21:25:11 -0700 (Fri, 04 Apr 2014) |
EndedAt: 2014-04-04 21:35:39 -0700 (Fri, 04 Apr 2014) |
EllapsedTime: 627.7 seconds |
RetCode: 0 |
Status: OK |
PackageFile: GSVA_1.10.3.tar.gz |
PackageFileSize: 1.587 MiB |
* checking for file ‘GSVA/DESCRIPTION’ ... OK * preparing ‘GSVA’: * checking DESCRIPTION meta-information ... OK * cleaning src * running ‘cleanup’ * installing the package to build vignettes * creating vignettes ... OK * cleaning src * running ‘cleanup’ * checking for LF line-endings in source and make files * checking for empty or unneeded directories * building ‘GSVA_1.10.3.tar.gz’