adding: CITATION (188 bytes security) (deflated 45%)
adding: DESCRIPTION (188 bytes security) (deflated 43%)
adding: doc/ (256 bytes security) (stored 0%)
adding: doc/GSVA.bib (188 bytes security) (deflated 61%)
adding: doc/GSVA.pdf (188 bytes security) (deflated 10%)
adding: doc/GSVA.R (188 bytes security) (deflated 78%)
adding: doc/GSVA.Rnw (188 bytes security) (deflated 69%)
adding: doc/index.html (188 bytes security) (deflated 58%)
adding: extdata/ (256 bytes security) (stored 0%)
adding: extdata/cache4vignette_leukemia_es.RData (188 bytes security) (deflated 0%)
adding: help/ (256 bytes security) (stored 0%)
adding: help/aliases.rds (188 bytes security) (stored 0%)
adding: help/AnIndex (188 bytes security) (deflated 78%)
adding: help/GSVA.rdb (188 bytes security) (deflated 0%)
adding: help/GSVA.rdx (188 bytes security) (stored 0%)
adding: help/paths.rds (188 bytes security) (stored 0%)
adding: html/ (256 bytes security) (stored 0%)
adding: html/00Index.html (188 bytes security) (deflated 63%)
adding: html/R.css (188 bytes security) (deflated 70%)
adding: INDEX (188 bytes security) (deflated 44%)
adding: libs/ (256 bytes security) (stored 0%)
adding: libs/i386/ (256 bytes security) (stored 0%)
adding: libs/i386/GSVA.dll (188 bytes security) (deflated 50%)
adding: libs/x64/ (256 bytes security) (stored 0%)
adding: libs/x64/GSVA.dll (188 bytes security) (deflated 53%)
adding: MD5 (188 bytes security) (deflated 41%)
adding: Meta/ (256 bytes security) (stored 0%)
adding: Meta/hsearch.rds (188 bytes security) (stored 0%)
adding: Meta/links.rds (188 bytes security) (stored 0%)
adding: Meta/nsInfo.rds (188 bytes security) (stored 0%)
adding: Meta/package.rds (188 bytes security) (stored 0%)
adding: Meta/Rd.rds (188 bytes security) (stored 0%)
adding: Meta/vignette.rds (188 bytes security) (stored 0%)
adding: NAMESPACE (188 bytes security) (deflated 51%)
adding: NEWS (188 bytes security) (deflated 49%)
adding: R/ (256 bytes security) (stored 0%)
adding: R/GSVA (188 bytes security) (deflated 41%)
adding: R/GSVA.rdb (188 bytes security) (deflated 28%)
adding: R/GSVA.rdx (188 bytes security) (stored 0%)