Back to the "Multiple platform build/check report" | A B C D E F [G] H I J K L M N O P Q R S T U V W X Y Z |
This page was generated on 2014-04-05 09:52:27 -0700 (Sat, 05 Apr 2014).
Package 305/750 | Hostname | OS / Arch | BUILD | CHECK | BUILD BIN | ||||
GEOsubmission 1.14.0 Alexandre Kuhn
| zin1 | Linux (Ubuntu 12.04.4 LTS) / x86_64 | OK | OK | |||||
moscato1 | Windows Server 2008 R2 Enterprise SP1 (64-bit) / x64 | OK | OK | OK | |||||
perceval | Mac OS X Snow Leopard (10.6.8) / x86_64 | OK | OK | [ OK ] |
Package: GEOsubmission |
Version: 1.14.0 |
Command: rm -rf GEOsubmission.buildbin-libdir && mkdir GEOsubmission.buildbin-libdir && /Users/biocbuild/BBS/utils/build-universal.sh GEOsubmission_1.14.0.tar.gz /Library/Frameworks/R.framework/Versions/Current/Resources/bin/R GEOsubmission.buildbin-libdir |
StartedAt: 2014-04-05 05:24:48 -0700 (Sat, 05 Apr 2014) |
EndedAt: 2014-04-05 05:24:54 -0700 (Sat, 05 Apr 2014) |
EllapsedTime: 6.5 seconds |
RetCode: 0 |
Status: OK |
PackageFile: GEOsubmission_1.14.0.tgz |
PackageFileSize: 159.6 KiB |
>>>>>>> >>>>>>> INSTALLATION WITH 'R CMD INSTALL --preclean --no-multiarch --library=GEOsubmission.buildbin-libdir GEOsubmission_1.14.0.tar.gz' >>>>>>> * installing *source* package ‘GEOsubmission’ ... ** R ** inst ** preparing package for lazy loading ** help *** installing help indices ** building package indices ** installing vignettes ** testing if installed package can be loaded * DONE (GEOsubmission)