Scanning files
adding: DESCRIPTION (188 bytes security) (deflated 37%)
adding: doc/ (256 bytes security) (stored 0%)
adding: doc/GEOsubmission.bib (188 bytes security) (deflated 32%)
adding: doc/GEOsubmission.pdf (188 bytes security) (deflated 8%)
adding: doc/GEOsubmission.R (188 bytes security) (deflated 81%)
adding: doc/GEOsubmission.Rnw (188 bytes security) (deflated 64%)
adding: doc/index.html (188 bytes security) (deflated 61%)
adding: extdata/ (256 bytes security) (stored 0%)
adding: extdata/expressionNormalized.txt (188 bytes security) (deflated 18%)
adding: extdata/sample1.CEL (188 bytes security) (stored 0%)
adding: extdata/sample2.CEL (188 bytes security) (stored 0%)
adding: extdata/sampleInfo.txt (188 bytes security) (deflated 71%)
adding: extdata/seriesInfo.txt (188 bytes security) (deflated 46%)
adding: help/ (256 bytes security) (stored 0%)
adding: help/aliases.rds (188 bytes security) (stored 0%)
adding: help/AnIndex (188 bytes security) (deflated 46%)
adding: help/GEOsubmission.rdb (188 bytes security) (deflated 1%)
adding: help/GEOsubmission.rdx (188 bytes security) (stored 0%)
adding: help/paths.rds (188 bytes security) (stored 0%)
adding: html/ (256 bytes security) (stored 0%)
adding: html/00Index.html (188 bytes security) (deflated 61%)
adding: html/R.css (188 bytes security) (deflated 70%)
adding: INDEX (188 bytes security) (deflated 54%)
adding: MD5 (188 bytes security) (deflated 45%)
adding: Meta/ (256 bytes security) (stored 0%)
adding: Meta/hsearch.rds (188 bytes security) (stored 0%)
adding: Meta/links.rds (188 bytes security) (stored 0%)
adding: Meta/nsInfo.rds (188 bytes security) (stored 0%)
adding: Meta/package.rds (188 bytes security) (stored 0%)
adding: Meta/Rd.rds (188 bytes security) (stored 0%)
adding: Meta/vignette.rds (188 bytes security) (stored 0%)
adding: NAMESPACE (188 bytes security) (deflated 29%)
adding: R/ (256 bytes security) (stored 0%)
adding: R/GEOsubmission (188 bytes security) (deflated 41%)
adding: R/GEOsubmission.rdb (188 bytes security) (deflated 5%)
adding: R/GEOsubmission.rdx (188 bytes security) (stored 0%)