Back to the "Multiple platform build/check report" | A B [C] D E F G H I J K L M N O P Q R S T U V W X Y Z |
This page was generated on 2014-04-05 09:52:39 -0700 (Sat, 05 Apr 2014).
Package 171/750 | Hostname | OS / Arch | BUILD | CHECK | BUILD BIN | ||||
Cormotif 1.8.0 Yingying Wei
| zin1 | Linux (Ubuntu 12.04.4 LTS) / x86_64 | OK | OK | |||||
moscato1 | Windows Server 2008 R2 Enterprise SP1 (64-bit) / x64 | OK | OK | OK | |||||
perceval | Mac OS X Snow Leopard (10.6.8) / x86_64 | [ OK ] | OK | OK |
Package: Cormotif |
Version: 1.8.0 |
Command: /Library/Frameworks/R.framework/Versions/Current/Resources/bin/R CMD build --keep-empty-dirs --no-resave-data Cormotif |
StartedAt: 2014-04-04 21:28:03 -0700 (Fri, 04 Apr 2014) |
EndedAt: 2014-04-04 21:30:35 -0700 (Fri, 04 Apr 2014) |
EllapsedTime: 151.9 seconds |
RetCode: 0 |
Status: OK |
PackageFile: Cormotif_1.8.0.tar.gz |
PackageFileSize: 302.5 KiB |
* checking for file ‘Cormotif/DESCRIPTION’ ... OK * preparing ‘Cormotif’: * checking DESCRIPTION meta-information ... OK * installing the package to build vignettes * creating vignettes ... OK * checking for LF line-endings in source and make files * checking for empty or unneeded directories * looking to see if a ‘data/datalist’ file should be added * building ‘Cormotif_1.8.0.tar.gz’