Back to the "Multiple platform build/check report" | [A] B C D E F G H I J K L M N O P Q R S T U V W X Y Z |
This page was generated on 2014-04-05 09:49:47 -0700 (Sat, 05 Apr 2014).
Package 29/750 | Hostname | OS / Arch | BUILD | CHECK | BUILD BIN | ||||
Agi4x44PreProcess 1.22.0 Pedro Lopez-Romero
| zin1 | Linux (Ubuntu 12.04.4 LTS) / x86_64 | OK | OK | |||||
moscato1 | Windows Server 2008 R2 Enterprise SP1 (64-bit) / x64 | [ OK ] | OK | OK | |||||
perceval | Mac OS X Snow Leopard (10.6.8) / x86_64 | OK | OK | OK |
Package: Agi4x44PreProcess |
Version: 1.22.0 |
Command: chmod a+r Agi4x44PreProcess -R && D:\biocbld\bbs-2.13-bioc\R\bin\R.exe CMD build --keep-empty-dirs --no-resave-data Agi4x44PreProcess |
StartedAt: 2014-04-05 00:15:40 -0700 (Sat, 05 Apr 2014) |
EndedAt: 2014-04-05 00:16:40 -0700 (Sat, 05 Apr 2014) |
EllapsedTime: 59.8 seconds |
RetCode: 0 |
Status: OK |
PackageFile: Agi4x44PreProcess_1.22.0.tar.gz |
PackageFileSize: 1.124 MiB |
* checking for file 'Agi4x44PreProcess/DESCRIPTION' ... OK * preparing 'Agi4x44PreProcess': * checking DESCRIPTION meta-information ... OK * installing the package to build vignettes * creating vignettes ... OK * checking for LF line-endings in source and make files * checking for empty or unneeded directories * looking to see if a 'data/datalist' file should be added * building 'Agi4x44PreProcess_1.22.0.tar.gz'