Scanning files
adding: data/ (256 bytes security) (stored 0%)
adding: data/dd.rda (188 bytes security) (deflated 0%)
adding: data/targets.rda (188 bytes security) (stored 0%)
adding: DESCRIPTION (188 bytes security) (deflated 39%)
adding: doc/ (256 bytes security) (stored 0%)
adding: doc/Agi4x44PreProcess.bib (188 bytes security) (deflated 50%)
adding: doc/Agi4x44PreProcess.pdf (188 bytes security) (deflated 17%)
adding: doc/Agi4x44PreProcess.R (188 bytes security) (deflated 82%)
adding: doc/Agi4x44PreProcess.Rnw (188 bytes security) (deflated 69%)
adding: doc/changelog.txt (188 bytes security) (stored 0%)
adding: doc/index.html (188 bytes security) (deflated 63%)
adding: help/ (256 bytes security) (stored 0%)
adding: help/Agi4x44PreProcess.rdb (188 bytes security) (deflated 1%)
adding: help/Agi4x44PreProcess.rdx (188 bytes security) (stored 0%)
adding: help/aliases.rds (188 bytes security) (stored 0%)
adding: help/AnIndex (188 bytes security) (deflated 63%)
adding: help/paths.rds (188 bytes security) (stored 0%)
adding: html/ (256 bytes security) (stored 0%)
adding: html/00Index.html (188 bytes security) (deflated 76%)
adding: html/R.css (188 bytes security) (deflated 70%)
adding: INDEX (188 bytes security) (deflated 69%)
adding: MD5 (188 bytes security) (deflated 46%)
adding: Meta/ (256 bytes security) (stored 0%)
adding: Meta/data.rds (188 bytes security) (stored 0%)
adding: Meta/hsearch.rds (188 bytes security) (stored 0%)
adding: Meta/links.rds (188 bytes security) (stored 0%)
adding: Meta/nsInfo.rds (188 bytes security) (stored 0%)
adding: Meta/package.rds (188 bytes security) (stored 0%)
adding: Meta/Rd.rds (188 bytes security) (stored 0%)
adding: Meta/vignette.rds (188 bytes security) (stored 0%)
adding: NAMESPACE (188 bytes security) (deflated 43%)
adding: R/ (256 bytes security) (stored 0%)
adding: R/Agi4x44PreProcess (188 bytes security) (deflated 41%)
adding: R/Agi4x44PreProcess.rdb (188 bytes security) (deflated 0%)
adding: R/Agi4x44PreProcess.rdx (188 bytes security) (stored 0%)