MLP 1.7.3 Tobias Verbeke
Snapshot Date: 2013-03-23 17:02:20 -0700 (Sat, 23 Mar 2013) | URL: https://hedgehog.fhcrc.org/bioconductor/trunk/madman/Rpacks/MLP | Last Changed Rev: 74009 / Revision: 74756 | Last Changed Date: 2013-03-07 06:56:07 -0800 (Thu, 07 Mar 2013) |
| george2 | Linux (Ubuntu 12.04.1 LTS) / x86_64 | OK | OK | |
moscato2 | Windows Server 2008 R2 Enterprise SP1 (64-bit) / x64 | OK | OK | OK |
petty | Mac OS X Leopard (10.5.8) / i386 | OK | WARNINGS | OK |
pelham | Mac OS X Snow Leopard (10.6.8) / x86_64 | OK | OK | [ OK ] |
* installing *source* package 'MLP' ...
** R
** inst
** preparing package for lazy loading
'.path.package' is deprecated.
Use 'path.package' instead.
See help("Deprecated")
** help
*** installing help indices
** building package indices
** installing vignettes
'UsingMLP.Rnw'
** testing if installed package can be loaded
'.path.package' is deprecated.
Use 'path.package' instead.
See help("Deprecated")
packaged installation of 'MLP' as 'MLP_1.7.3.tgz'
* DONE (MLP)