Back to Build/check report for BioC 3.13 on Apple's new arm64 arch |
|
This page was generated on 2021-01-31 03:53:37 -0500 (Sun, 31 Jan 2021).
These are experimental builds on Apple's new arm64 arch. See here for more information. |
To the developers/maintainers of the uSORT package: Please make sure to use the following settings in order to reproduce any error or warning you see on this page. |
Package 1891/1938 | Hostname | OS / Arch | INSTALL | BUILD | CHECK | BUILD BIN | ||||||||
uSORT 1.17.0 Hao Chen
| taxco | macOS 11.0.1 Big Sur / arm64 | ERROR | NA | NA | |||||||||
Package: uSORT |
Version: 1.17.0 |
Command: /Library/Frameworks/R.framework/Versions/Current/Resources/bin/R CMD INSTALL uSORT |
StartedAt: 2021-01-30 19:11:22 -0500 (Sat, 30 Jan 2021) |
EndedAt: 2021-01-30 19:11:24 -0500 (Sat, 30 Jan 2021) |
EllapsedTime: 2.0 seconds |
RetCode: 1 |
Status: ERROR |
############################################################################## ############################################################################## ### ### Running command: ### ### /Library/Frameworks/R.framework/Versions/Current/Resources/bin/R CMD INSTALL uSORT ### ############################################################################## ############################################################################## * installing to library ‘/Library/Frameworks/R.framework/Versions/4.1-arm64/Resources/library’ * installing *source* package ‘uSORT’ ... ** using staged installation ** R ** inst ** byte-compile and prepare package for lazy loading Error: package or namespace load failed for ‘tcltk’: .onLoad failed in loadNamespace() for 'tcltk', details: call: dyn.load(file, DLLpath = DLLpath, ...) error: unable to load shared object '/Library/Frameworks/R.framework/Versions/4.1-arm64/Resources/library/tcltk/libs/tcltk.so': dlopen(/Library/Frameworks/R.framework/Versions/4.1-arm64/Resources/library/tcltk/libs/tcltk.so, 10): Library not loaded: /Library/Frameworks/Tcl.framework/Versions/8.6/Tcl Referenced from: /Library/Frameworks/R.framework/Versions/4.1-arm64/Resources/library/tcltk/libs/tcltk.so Reason: image not found Error: package ‘tcltk’ could not be loaded Execution halted ERROR: lazy loading failed for package ‘uSORT’ * removing ‘/Library/Frameworks/R.framework/Versions/4.1-arm64/Resources/library/uSORT’