Back to Build/check report for BioC 3.13 on Apple's new arm64 arch |
|
This page was generated on 2021-01-31 03:53:37 -0500 (Sun, 31 Jan 2021).
These are experimental builds on Apple's new arm64 arch. See here for more information. |
To the developers/maintainers of the sigsquared package: Please make sure to use the following settings in order to reproduce any error or warning you see on this page. |
Package 1678/1938 | Hostname | OS / Arch | INSTALL | BUILD | CHECK | BUILD BIN | ||||||||
sigsquared 1.23.0 UnJin Lee
| taxco | macOS 11.0.1 Big Sur / arm64 | OK | NA | NA | |||||||||
Package: sigsquared |
Version: 1.23.0 |
Command: /Library/Frameworks/R.framework/Versions/Current/Resources/bin/R CMD INSTALL sigsquared |
StartedAt: 2021-01-30 16:22:51 -0500 (Sat, 30 Jan 2021) |
EndedAt: 2021-01-30 16:23:06 -0500 (Sat, 30 Jan 2021) |
EllapsedTime: 14.6 seconds |
RetCode: 0 |
Status: OK |
############################################################################## ############################################################################## ### ### Running command: ### ### /Library/Frameworks/R.framework/Versions/Current/Resources/bin/R CMD INSTALL sigsquared ### ############################################################################## ############################################################################## * installing to library ‘/Library/Frameworks/R.framework/Versions/4.1-arm64/Resources/library’ * installing *source* package ‘sigsquared’ ... ** using staged installation ** R ** data ** inst ** byte-compile and prepare package for lazy loading in method for ‘ensembleCostFcn’ with signature ‘dataSet="ExpressionSet",geneSig="geneSignature",jpdf="solnSpace"’: no definition for class “solnSpace” in method for ‘getCVCuts’ with signature ‘cutoffResults="solnSpace"’: no definition for class “solnSpace” in method for ‘summarizeCVCuts’ with signature ‘cutoffResults="solnSpace"’: no definition for class “solnSpace” ** help *** installing help indices ** building package indices ** installing vignettes ** testing if installed package can be loaded from temporary location ** testing if installed package can be loaded from final location ** testing if installed package keeps a record of temporary installation path * DONE (sigsquared)