Back to Build/check report for BioC 3.13 on Apple's new arm64 arch |
|
This page was generated on 2021-01-31 03:53:36 -0500 (Sun, 31 Jan 2021).
These are experimental builds on Apple's new arm64 arch. See here for more information. |
To the developers/maintainers of the maigesPack package: Please make sure to use the following settings in order to reproduce any error or warning you see on this page. |
Package 972/1938 | Hostname | OS / Arch | INSTALL | BUILD | CHECK | BUILD BIN | ||||||||
maigesPack 1.55.0 Gustavo H. Esteves
| taxco | macOS 11.0.1 Big Sur / arm64 | OK | NA | NA | |||||||||
Package: maigesPack |
Version: 1.55.0 |
Command: /Library/Frameworks/R.framework/Versions/Current/Resources/bin/R CMD INSTALL maigesPack |
StartedAt: 2021-01-30 16:25:29 -0500 (Sat, 30 Jan 2021) |
EndedAt: 2021-01-30 16:25:53 -0500 (Sat, 30 Jan 2021) |
EllapsedTime: 24.3 seconds |
RetCode: 0 |
Status: OK |
############################################################################## ############################################################################## ### ### Running command: ### ### /Library/Frameworks/R.framework/Versions/Current/Resources/bin/R CMD INSTALL maigesPack ### ############################################################################## ############################################################################## * installing to library ‘/Library/Frameworks/R.framework/Versions/4.1-arm64/Resources/library’ * installing *source* package ‘maigesPack’ ... ** using staged installation ** libs clang -I"/Library/Frameworks/R.framework/Resources/include" -DNDEBUG -I/opt/R/arm64/include -fPIC -falign-functions=64 -Wall -g -O2 -c Minfo.c -o Minfo.o clang -I"/Library/Frameworks/R.framework/Resources/include" -DNDEBUG -I/opt/R/arm64/include -fPIC -falign-functions=64 -Wall -g -O2 -c bootstrapT.c -o bootstrapT.o clang -I"/Library/Frameworks/R.framework/Resources/include" -DNDEBUG -I/opt/R/arm64/include -fPIC -falign-functions=64 -Wall -g -O2 -c register.c -o register.o clang -I"/Library/Frameworks/R.framework/Resources/include" -DNDEBUG -I/opt/R/arm64/include -fPIC -falign-functions=64 -Wall -g -O2 -c robustCorr.c -o robustCorr.o clang -I"/Library/Frameworks/R.framework/Resources/include" -DNDEBUG -I/opt/R/arm64/include -fPIC -falign-functions=64 -Wall -g -O2 -c stats.c -o stats.o clang -dynamiclib -Wl,-headerpad_max_install_names -undefined dynamic_lookup -single_module -multiply_defined suppress -L/Library/Frameworks/R.framework/Resources/lib -L/opt/R/arm64/lib -o maigesPack.so Minfo.o bootstrapT.o register.o robustCorr.o stats.o -F/Library/Frameworks/R.framework/.. -framework R -Wl,-framework -Wl,CoreFoundation installing to /Library/Frameworks/R.framework/Versions/4.1-arm64/Resources/library/00LOCK-maigesPack/00new/maigesPack/libs ** R ** data ** byte-compile and prepare package for lazy loading ** help *** installing help indices ** building package indices ** installing vignettes ** testing if installed package can be loaded from temporary location ** checking absolute paths in shared objects and dynamic libraries ** testing if installed package can be loaded from final location ** testing if installed package keeps a record of temporary installation path * DONE (maigesPack)