Back to Build/check report for BioC 3.13 on Apple's new arm64 arch |
|
This page was generated on 2021-01-31 03:53:36 -0500 (Sun, 31 Jan 2021).
These are experimental builds on Apple's new arm64 arch. See here for more information. |
To the developers/maintainers of the debCAM package: Please make sure to use the following settings in order to reproduce any error or warning you see on this page. |
Package 432/1938 | Hostname | OS / Arch | INSTALL | BUILD | CHECK | BUILD BIN | ||||||||
debCAM 1.9.0 Lulu Chen
| taxco | macOS 11.0.1 Big Sur / arm64 | ERROR | NA | NA | |||||||||
Package: debCAM |
Version: 1.9.0 |
Command: /Library/Frameworks/R.framework/Versions/Current/Resources/bin/R CMD INSTALL debCAM |
StartedAt: 2021-01-30 17:02:57 -0500 (Sat, 30 Jan 2021) |
EndedAt: 2021-01-30 17:02:57 -0500 (Sat, 30 Jan 2021) |
EllapsedTime: 0.4 seconds |
RetCode: 1 |
Status: ERROR |
############################################################################## ############################################################################## ### ### Running command: ### ### /Library/Frameworks/R.framework/Versions/Current/Resources/bin/R CMD INSTALL debCAM ### ############################################################################## ############################################################################## * installing to library ‘/Library/Frameworks/R.framework/Versions/4.1-arm64/Resources/library’ ERROR: dependency ‘rJava’ is not available for package ‘debCAM’ * removing ‘/Library/Frameworks/R.framework/Versions/4.1-arm64/Resources/library/debCAM’