Back to Build/check report for BioC 3.13 on Apple's new arm64 arch |
|
This page was generated on 2021-01-31 03:53:36 -0500 (Sun, 31 Jan 2021).
These are experimental builds on Apple's new arm64 arch. See here for more information. |
To the developers/maintainers of the csaw package: Please make sure to use the following settings in order to reproduce any error or warning you see on this page. |
Package 400/1938 | Hostname | OS / Arch | INSTALL | BUILD | CHECK | BUILD BIN | ||||||||
csaw 1.25.6 Aaron Lun
| taxco | macOS 11.0.1 Big Sur / arm64 | OK | NA | NA | |||||||||
Package: csaw |
Version: 1.25.6 |
Command: /Library/Frameworks/R.framework/Versions/Current/Resources/bin/R CMD INSTALL csaw |
StartedAt: 2021-01-30 17:12:28 -0500 (Sat, 30 Jan 2021) |
EndedAt: 2021-01-30 17:15:13 -0500 (Sat, 30 Jan 2021) |
EllapsedTime: 165.6 seconds |
RetCode: 0 |
Status: OK |
############################################################################## ############################################################################## ### ### Running command: ### ### /Library/Frameworks/R.framework/Versions/Current/Resources/bin/R CMD INSTALL csaw ### ############################################################################## ############################################################################## * installing to library ‘/Library/Frameworks/R.framework/Versions/4.1-arm64/Resources/library’ * installing *source* package ‘csaw’ ... ** using staged installation ** libs clang++ -std=gnu++11 -I"/Library/Frameworks/R.framework/Resources/include" -DNDEBUG -D_FILE_OFFSET_BITS=64 -I'/Library/Frameworks/R.framework/Versions/4.1-arm64/Resources/library/Rhtslib/include' -I'/Library/Frameworks/R.framework/Versions/4.1-arm64/Resources/library/zlibbioc/include' -I'/Library/Frameworks/R.framework/Versions/4.1-arm64/Resources/library/Rcpp/include' -I/opt/R/arm64/include -fPIC -falign-functions=64 -Wall -g -O2 -c annotator.cpp -o annotator.o In file included from annotator.cpp:1: In file included from ./csaw.h:4: In file included from /Library/Frameworks/R.framework/Versions/4.1-arm64/Resources/library/Rcpp/include/Rcpp.h:57: /Library/Frameworks/R.framework/Versions/4.1-arm64/Resources/library/Rcpp/include/Rcpp/DataFrame.h:136:18: warning: unused variable 'data' [-Wunused-variable] SEXP data = Parent::get__(); ^ 1 warning generated. clang++ -std=gnu++11 -I"/Library/Frameworks/R.framework/Resources/include" -DNDEBUG -D_FILE_OFFSET_BITS=64 -I'/Library/Frameworks/R.framework/Versions/4.1-arm64/Resources/library/Rhtslib/include' -I'/Library/Frameworks/R.framework/Versions/4.1-arm64/Resources/library/zlibbioc/include' -I'/Library/Frameworks/R.framework/Versions/4.1-arm64/Resources/library/Rcpp/include' -I/opt/R/arm64/include -fPIC -falign-functions=64 -Wall -g -O2 -c bam_utils.cpp -o bam_utils.o In file included from bam_utils.cpp:1: In file included from ./bam_utils.h:4: In file included from ./csaw.h:4: In file included from /Library/Frameworks/R.framework/Versions/4.1-arm64/Resources/library/Rcpp/include/Rcpp.h:57: /Library/Frameworks/R.framework/Versions/4.1-arm64/Resources/library/Rcpp/include/Rcpp/DataFrame.h:136:18: warning: unused variable 'data' [-Wunused-variable] SEXP data = Parent::get__(); ^ 1 warning generated. clang++ -std=gnu++11 -I"/Library/Frameworks/R.framework/Resources/include" -DNDEBUG -D_FILE_OFFSET_BITS=64 -I'/Library/Frameworks/R.framework/Versions/4.1-arm64/Resources/library/Rhtslib/include' -I'/Library/Frameworks/R.framework/Versions/4.1-arm64/Resources/library/zlibbioc/include' -I'/Library/Frameworks/R.framework/Versions/4.1-arm64/Resources/library/Rcpp/include' -I/opt/R/arm64/include -fPIC -falign-functions=64 -Wall -g -O2 -c best_in_cluster.cpp -o best_in_cluster.o In file included from best_in_cluster.cpp:1: In file included from ./csaw.h:4: In file included from /Library/Frameworks/R.framework/Versions/4.1-arm64/Resources/library/Rcpp/include/Rcpp.h:57: /Library/Frameworks/R.framework/Versions/4.1-arm64/Resources/library/Rcpp/include/Rcpp/DataFrame.h:136:18: warning: unused variable 'data' [-Wunused-variable] SEXP data = Parent::get__(); ^ 1 warning generated. clang++ -std=gnu++11 -I"/Library/Frameworks/R.framework/Resources/include" -DNDEBUG -D_FILE_OFFSET_BITS=64 -I'/Library/Frameworks/R.framework/Versions/4.1-arm64/Resources/library/Rhtslib/include' -I'/Library/Frameworks/R.framework/Versions/4.1-arm64/Resources/library/zlibbioc/include' -I'/Library/Frameworks/R.framework/Versions/4.1-arm64/Resources/library/Rcpp/include' -I/opt/R/arm64/include -fPIC -falign-functions=64 -Wall -g -O2 -c check_bimodality.cpp -o check_bimodality.o In file included from check_bimodality.cpp:1: In file included from ./csaw.h:4: In file included from /Library/Frameworks/R.framework/Versions/4.1-arm64/Resources/library/Rcpp/include/Rcpp.h:57: /Library/Frameworks/R.framework/Versions/4.1-arm64/Resources/library/Rcpp/include/Rcpp/DataFrame.h:136:18: warning: unused variable 'data' [-Wunused-variable] SEXP data = Parent::get__(); ^ 1 warning generated. clang++ -std=gnu++11 -I"/Library/Frameworks/R.framework/Resources/include" -DNDEBUG -D_FILE_OFFSET_BITS=64 -I'/Library/Frameworks/R.framework/Versions/4.1-arm64/Resources/library/Rhtslib/include' -I'/Library/Frameworks/R.framework/Versions/4.1-arm64/Resources/library/zlibbioc/include' -I'/Library/Frameworks/R.framework/Versions/4.1-arm64/Resources/library/Rcpp/include' -I/opt/R/arm64/include -fPIC -falign-functions=64 -Wall -g -O2 -c correlate_reads.cpp -o correlate_reads.o In file included from correlate_reads.cpp:1: In file included from ./csaw.h:4: In file included from /Library/Frameworks/R.framework/Versions/4.1-arm64/Resources/library/Rcpp/include/Rcpp.h:57: /Library/Frameworks/R.framework/Versions/4.1-arm64/Resources/library/Rcpp/include/Rcpp/DataFrame.h:136:18: warning: unused variable 'data' [-Wunused-variable] SEXP data = Parent::get__(); ^ 1 warning generated. clang++ -std=gnu++11 -I"/Library/Frameworks/R.framework/Resources/include" -DNDEBUG -D_FILE_OFFSET_BITS=64 -I'/Library/Frameworks/R.framework/Versions/4.1-arm64/Resources/library/Rhtslib/include' -I'/Library/Frameworks/R.framework/Versions/4.1-arm64/Resources/library/zlibbioc/include' -I'/Library/Frameworks/R.framework/Versions/4.1-arm64/Resources/library/Rcpp/include' -I/opt/R/arm64/include -fPIC -falign-functions=64 -Wall -g -O2 -c find_maxima.cpp -o find_maxima.o In file included from find_maxima.cpp:1: In file included from ./csaw.h:4: In file included from /Library/Frameworks/R.framework/Versions/4.1-arm64/Resources/library/Rcpp/include/Rcpp.h:57: /Library/Frameworks/R.framework/Versions/4.1-arm64/Resources/library/Rcpp/include/Rcpp/DataFrame.h:136:18: warning: unused variable 'data' [-Wunused-variable] SEXP data = Parent::get__(); ^ 1 warning generated. clang++ -std=gnu++11 -I"/Library/Frameworks/R.framework/Resources/include" -DNDEBUG -D_FILE_OFFSET_BITS=64 -I'/Library/Frameworks/R.framework/Versions/4.1-arm64/Resources/library/Rhtslib/include' -I'/Library/Frameworks/R.framework/Versions/4.1-arm64/Resources/library/zlibbioc/include' -I'/Library/Frameworks/R.framework/Versions/4.1-arm64/Resources/library/Rcpp/include' -I/opt/R/arm64/include -fPIC -falign-functions=64 -Wall -g -O2 -c get_profile.cpp -o get_profile.o In file included from get_profile.cpp:1: In file included from ./csaw.h:4: In file included from /Library/Frameworks/R.framework/Versions/4.1-arm64/Resources/library/Rcpp/include/Rcpp.h:57: /Library/Frameworks/R.framework/Versions/4.1-arm64/Resources/library/Rcpp/include/Rcpp/DataFrame.h:136:18: warning: unused variable 'data' [-Wunused-variable] SEXP data = Parent::get__(); ^ 1 warning generated. clang++ -std=gnu++11 -I"/Library/Frameworks/R.framework/Resources/include" -DNDEBUG -D_FILE_OFFSET_BITS=64 -I'/Library/Frameworks/R.framework/Versions/4.1-arm64/Resources/library/Rhtslib/include' -I'/Library/Frameworks/R.framework/Versions/4.1-arm64/Resources/library/zlibbioc/include' -I'/Library/Frameworks/R.framework/Versions/4.1-arm64/Resources/library/Rcpp/include' -I/opt/R/arm64/include -fPIC -falign-functions=64 -Wall -g -O2 -c get_rle_counts.cpp -o get_rle_counts.o In file included from get_rle_counts.cpp:1: In file included from ./csaw.h:4: In file included from /Library/Frameworks/R.framework/Versions/4.1-arm64/Resources/library/Rcpp/include/Rcpp.h:57: /Library/Frameworks/R.framework/Versions/4.1-arm64/Resources/library/Rcpp/include/Rcpp/DataFrame.h:136:18: warning: unused variable 'data' [-Wunused-variable] SEXP data = Parent::get__(); ^ 1 warning generated. clang++ -std=gnu++11 -I"/Library/Frameworks/R.framework/Resources/include" -DNDEBUG -D_FILE_OFFSET_BITS=64 -I'/Library/Frameworks/R.framework/Versions/4.1-arm64/Resources/library/Rhtslib/include' -I'/Library/Frameworks/R.framework/Versions/4.1-arm64/Resources/library/zlibbioc/include' -I'/Library/Frameworks/R.framework/Versions/4.1-arm64/Resources/library/Rcpp/include' -I/opt/R/arm64/include -fPIC -falign-functions=64 -Wall -g -O2 -c init.cpp -o init.o In file included from init.cpp:1: In file included from ./csaw.h:4: In file included from /Library/Frameworks/R.framework/Versions/4.1-arm64/Resources/library/Rcpp/include/Rcpp.h:57: /Library/Frameworks/R.framework/Versions/4.1-arm64/Resources/library/Rcpp/include/Rcpp/DataFrame.h:136:18: warning: unused variable 'data' [-Wunused-variable] SEXP data = Parent::get__(); ^ 1 warning generated. clang++ -std=gnu++11 -I"/Library/Frameworks/R.framework/Resources/include" -DNDEBUG -D_FILE_OFFSET_BITS=64 -I'/Library/Frameworks/R.framework/Versions/4.1-arm64/Resources/library/Rhtslib/include' -I'/Library/Frameworks/R.framework/Versions/4.1-arm64/Resources/library/zlibbioc/include' -I'/Library/Frameworks/R.framework/Versions/4.1-arm64/Resources/library/Rcpp/include' -I/opt/R/arm64/include -fPIC -falign-functions=64 -Wall -g -O2 -c intersector.cpp -o intersector.o In file included from intersector.cpp:1: In file included from ./intersector.h:3: In file included from ./utils.h:1: In file included from /Library/Frameworks/R.framework/Versions/4.1-arm64/Resources/library/Rcpp/include/Rcpp.h:57: /Library/Frameworks/R.framework/Versions/4.1-arm64/Resources/library/Rcpp/include/Rcpp/DataFrame.h:136:18: warning: unused variable 'data' [-Wunused-variable] SEXP data = Parent::get__(); ^ 1 warning generated. clang++ -std=gnu++11 -I"/Library/Frameworks/R.framework/Resources/include" -DNDEBUG -D_FILE_OFFSET_BITS=64 -I'/Library/Frameworks/R.framework/Versions/4.1-arm64/Resources/library/Rhtslib/include' -I'/Library/Frameworks/R.framework/Versions/4.1-arm64/Resources/library/zlibbioc/include' -I'/Library/Frameworks/R.framework/Versions/4.1-arm64/Resources/library/Rcpp/include' -I/opt/R/arm64/include -fPIC -falign-functions=64 -Wall -g -O2 -c merge_windows.cpp -o merge_windows.o In file included from merge_windows.cpp:1: In file included from ./csaw.h:4: In file included from /Library/Frameworks/R.framework/Versions/4.1-arm64/Resources/library/Rcpp/include/Rcpp.h:57: /Library/Frameworks/R.framework/Versions/4.1-arm64/Resources/library/Rcpp/include/Rcpp/DataFrame.h:136:18: warning: unused variable 'data' [-Wunused-variable] SEXP data = Parent::get__(); ^ 1 warning generated. clang++ -std=gnu++11 -I"/Library/Frameworks/R.framework/Resources/include" -DNDEBUG -D_FILE_OFFSET_BITS=64 -I'/Library/Frameworks/R.framework/Versions/4.1-arm64/Resources/library/Rhtslib/include' -I'/Library/Frameworks/R.framework/Versions/4.1-arm64/Resources/library/zlibbioc/include' -I'/Library/Frameworks/R.framework/Versions/4.1-arm64/Resources/library/Rcpp/include' -I/opt/R/arm64/include -fPIC -falign-functions=64 -Wall -g -O2 -c pair_reads.cpp -o pair_reads.o In file included from pair_reads.cpp:1: In file included from ./bam_utils.h:4: In file included from ./csaw.h:4: In file included from /Library/Frameworks/R.framework/Versions/4.1-arm64/Resources/library/Rcpp/include/Rcpp.h:57: /Library/Frameworks/R.framework/Versions/4.1-arm64/Resources/library/Rcpp/include/Rcpp/DataFrame.h:136:18: warning: unused variable 'data' [-Wunused-variable] SEXP data = Parent::get__(); ^ 1 warning generated. clang++ -std=gnu++11 -I"/Library/Frameworks/R.framework/Resources/include" -DNDEBUG -D_FILE_OFFSET_BITS=64 -I'/Library/Frameworks/R.framework/Versions/4.1-arm64/Resources/library/Rhtslib/include' -I'/Library/Frameworks/R.framework/Versions/4.1-arm64/Resources/library/zlibbioc/include' -I'/Library/Frameworks/R.framework/Versions/4.1-arm64/Resources/library/Rcpp/include' -I/opt/R/arm64/include -fPIC -falign-functions=64 -Wall -g -O2 -c single_reads.cpp -o single_reads.o In file included from single_reads.cpp:1: In file included from ./bam_utils.h:4: In file included from ./csaw.h:4: In file included from /Library/Frameworks/R.framework/Versions/4.1-arm64/Resources/library/Rcpp/include/Rcpp.h:57: /Library/Frameworks/R.framework/Versions/4.1-arm64/Resources/library/Rcpp/include/Rcpp/DataFrame.h:136:18: warning: unused variable 'data' [-Wunused-variable] SEXP data = Parent::get__(); ^ 1 warning generated. clang++ -std=gnu++11 -I"/Library/Frameworks/R.framework/Resources/include" -DNDEBUG -D_FILE_OFFSET_BITS=64 -I'/Library/Frameworks/R.framework/Versions/4.1-arm64/Resources/library/Rhtslib/include' -I'/Library/Frameworks/R.framework/Versions/4.1-arm64/Resources/library/zlibbioc/include' -I'/Library/Frameworks/R.framework/Versions/4.1-arm64/Resources/library/Rcpp/include' -I/opt/R/arm64/include -fPIC -falign-functions=64 -Wall -g -O2 -c utils.cpp -o utils.o In file included from utils.cpp:1: In file included from /Library/Frameworks/R.framework/Versions/4.1-arm64/Resources/library/Rcpp/include/Rcpp.h:57: /Library/Frameworks/R.framework/Versions/4.1-arm64/Resources/library/Rcpp/include/Rcpp/DataFrame.h:136:18: warning: unused variable 'data' [-Wunused-variable] SEXP data = Parent::get__(); ^ 1 warning generated. clang++ -std=gnu++11 -dynamiclib -Wl,-headerpad_max_install_names -undefined dynamic_lookup -single_module -multiply_defined suppress -L/Library/Frameworks/R.framework/Resources/lib -L/opt/R/arm64/lib -o csaw.so annotator.o bam_utils.o best_in_cluster.o check_bimodality.o correlate_reads.o find_maxima.o get_profile.o get_rle_counts.o init.o intersector.o merge_windows.o pair_reads.o single_reads.o utils.o /Library/Frameworks/R.framework/Versions/4.1-arm64/Resources/library/Rhtslib/usrlib/libhts.a -lcurl -F/Library/Frameworks/R.framework/.. -framework R -Wl,-framework -Wl,CoreFoundation installing to /Library/Frameworks/R.framework/Versions/4.1-arm64/Resources/library/00LOCK-csaw/00new/csaw/libs ** R ** inst ** byte-compile and prepare package for lazy loading ** help *** installing help indices ** building package indices ** installing vignettes ** testing if installed package can be loaded from temporary location ** checking absolute paths in shared objects and dynamic libraries ** testing if installed package can be loaded from final location ** testing if installed package keeps a record of temporary installation path * DONE (csaw)