Back to Build/check report for BioC 3.13 on Apple's new arm64 arch |
|
This page was generated on 2021-01-31 03:53:36 -0500 (Sun, 31 Jan 2021).
These are experimental builds on Apple's new arm64 arch. See here for more information. |
To the developers/maintainers of the canceR package: Please make sure to use the following settings in order to reproduce any error or warning you see on this page. |
Package 227/1938 | Hostname | OS / Arch | INSTALL | BUILD | CHECK | BUILD BIN | ||||||||
canceR 1.25.0 Karim Mezhoud
| taxco | macOS 11.0.1 Big Sur / arm64 | ERROR | NA | NA | |||||||||
Package: canceR |
Version: 1.25.0 |
Command: /Library/Frameworks/R.framework/Versions/Current/Resources/bin/R CMD INSTALL canceR |
StartedAt: 2021-01-30 19:05:53 -0500 (Sat, 30 Jan 2021) |
EndedAt: 2021-01-30 19:05:54 -0500 (Sat, 30 Jan 2021) |
EllapsedTime: 1.3 seconds |
RetCode: 1 |
Status: ERROR |
############################################################################## ############################################################################## ### ### Running command: ### ### /Library/Frameworks/R.framework/Versions/Current/Resources/bin/R CMD INSTALL canceR ### ############################################################################## ############################################################################## * installing to library ‘/Library/Frameworks/R.framework/Versions/4.1-arm64/Resources/library’ ERROR: dependencies ‘tcltk2’, ‘tkrplot’ are not available for package ‘canceR’ * removing ‘/Library/Frameworks/R.framework/Versions/4.1-arm64/Resources/library/canceR’