Back to Build/check report for BioC 3.13 on Apple's new arm64 arch |
|
This page was generated on 2021-01-31 03:53:36 -0500 (Sun, 31 Jan 2021).
These are experimental builds on Apple's new arm64 arch. See here for more information. |
To the developers/maintainers of the beachmat package: Please make sure to use the following settings in order to reproduce any error or warning you see on this page. |
Package 131/1938 | Hostname | OS / Arch | INSTALL | BUILD | CHECK | BUILD BIN | ||||||||
beachmat 2.7.6 Aaron Lun
| taxco | macOS 11.0.1 Big Sur / arm64 | OK | NA | NA | |||||||||
Package: beachmat |
Version: 2.7.6 |
Command: /Library/Frameworks/R.framework/Versions/Current/Resources/bin/R CMD INSTALL beachmat |
StartedAt: 2021-01-30 16:55:21 -0500 (Sat, 30 Jan 2021) |
EndedAt: 2021-01-30 16:56:02 -0500 (Sat, 30 Jan 2021) |
EllapsedTime: 40.4 seconds |
RetCode: 0 |
Status: OK |
############################################################################## ############################################################################## ### ### Running command: ### ### /Library/Frameworks/R.framework/Versions/Current/Resources/bin/R CMD INSTALL beachmat ### ############################################################################## ############################################################################## * installing to library ‘/Library/Frameworks/R.framework/Versions/4.1-arm64/Resources/library’ * installing *source* package ‘beachmat’ ... ** using staged installation ** libs clang++ -std=gnu++11 -I"/Library/Frameworks/R.framework/Resources/include" -DNDEBUG -I'/Library/Frameworks/R.framework/Versions/4.1-arm64/Resources/library/Rcpp/include' -I/opt/R/arm64/include -fPIC -falign-functions=64 -Wall -g -O2 -c RcppExports.cpp -o RcppExports.o In file included from RcppExports.cpp:4: In file included from /Library/Frameworks/R.framework/Versions/4.1-arm64/Resources/library/Rcpp/include/Rcpp.h:57: /Library/Frameworks/R.framework/Versions/4.1-arm64/Resources/library/Rcpp/include/Rcpp/DataFrame.h:136:18: warning: unused variable 'data' [-Wunused-variable] SEXP data = Parent::get__(); ^ 1 warning generated. clang++ -std=gnu++11 -I"/Library/Frameworks/R.framework/Resources/include" -DNDEBUG -I'/Library/Frameworks/R.framework/Versions/4.1-arm64/Resources/library/Rcpp/include' -I/opt/R/arm64/include -fPIC -falign-functions=64 -Wall -g -O2 -c fragment_sparse_rows.cpp -o fragment_sparse_rows.o In file included from fragment_sparse_rows.cpp:1: In file included from /Library/Frameworks/R.framework/Versions/4.1-arm64/Resources/library/Rcpp/include/Rcpp.h:57: /Library/Frameworks/R.framework/Versions/4.1-arm64/Resources/library/Rcpp/include/Rcpp/DataFrame.h:136:18: warning: unused variable 'data' [-Wunused-variable] SEXP data = Parent::get__(); ^ 1 warning generated. clang++ -std=gnu++11 -dynamiclib -Wl,-headerpad_max_install_names -undefined dynamic_lookup -single_module -multiply_defined suppress -L/Library/Frameworks/R.framework/Resources/lib -L/opt/R/arm64/lib -o beachmat.so RcppExports.o fragment_sparse_rows.o -F/Library/Frameworks/R.framework/.. -framework R -Wl,-framework -Wl,CoreFoundation installing to /Library/Frameworks/R.framework/Versions/4.1-arm64/Resources/library/00LOCK-beachmat/00new/beachmat/libs ** R ** inst ** byte-compile and prepare package for lazy loading ** help *** installing help indices ** building package indices ** installing vignettes ** testing if installed package can be loaded from temporary location ** checking absolute paths in shared objects and dynamic libraries ** testing if installed package can be loaded from final location ** testing if installed package keeps a record of temporary installation path * DONE (beachmat)