Back to Build/check report for BioC 3.13 on Apple's new arm64 arch |
|
This page was generated on 2021-01-31 03:53:36 -0500 (Sun, 31 Jan 2021).
These are experimental builds on Apple's new arm64 arch. See here for more information. |
To the developers/maintainers of the affyContam package: Please make sure to use the following settings in order to reproduce any error or warning you see on this page. |
Package 26/1938 | Hostname | OS / Arch | INSTALL | BUILD | CHECK | BUILD BIN | ||||||||
affyContam 1.49.0 V. Carey
| taxco | macOS 11.0.1 Big Sur / arm64 | OK | NA | NA | |||||||||
Package: affyContam |
Version: 1.49.0 |
Command: /Library/Frameworks/R.framework/Versions/Current/Resources/bin/R CMD INSTALL affyContam |
StartedAt: 2021-01-30 16:32:02 -0500 (Sat, 30 Jan 2021) |
EndedAt: 2021-01-30 16:32:08 -0500 (Sat, 30 Jan 2021) |
EllapsedTime: 5.7 seconds |
RetCode: 0 |
Status: OK |
############################################################################## ############################################################################## ### ### Running command: ### ### /Library/Frameworks/R.framework/Versions/Current/Resources/bin/R CMD INSTALL affyContam ### ############################################################################## ############################################################################## * installing to library ‘/Library/Frameworks/R.framework/Versions/4.1-arm64/Resources/library’ * installing *source* package ‘affyContam’ ... ** using staged installation ** R ** byte-compile and prepare package for lazy loading Package [1,] "affydata" LibPath [1,] "/Library/Frameworks/R.framework/Versions/4.1-arm64/Resources/library" Item Title [1,] "Dilution" "AffyBatch instance Dilution" ** help *** installing help indices ** building package indices ** installing vignettes ** testing if installed package can be loaded from temporary location Package [1,] "affydata" LibPath [1,] "/Library/Frameworks/R.framework/Versions/4.1-arm64/Resources/library" Item Title [1,] "Dilution" "AffyBatch instance Dilution" ** testing if installed package can be loaded from final location Package [1,] "affydata" LibPath [1,] "/Library/Frameworks/R.framework/Versions/4.1-arm64/Resources/library" Item Title [1,] "Dilution" "AffyBatch instance Dilution" ** testing if installed package keeps a record of temporary installation path * DONE (affyContam)