Back to Build/check report for BioC 3.13 on Apple's new arm64 arch |
|
This page was generated on 2021-01-31 03:53:37 -0500 (Sun, 31 Jan 2021).
These are experimental builds on Apple's new arm64 arch. See here for more information. |
To the developers/maintainers of the TransView package: Please make sure to use the following settings in order to reproduce any error or warning you see on this page. |
Package 1855/1938 | Hostname | OS / Arch | INSTALL | BUILD | CHECK | BUILD BIN | ||||||||
TransView 1.35.0 Julius Muller
| taxco | macOS 11.0.1 Big Sur / arm64 | OK | NA | NA | |||||||||
Package: TransView |
Version: 1.35.0 |
Command: /Library/Frameworks/R.framework/Versions/Current/Resources/bin/R CMD INSTALL TransView |
StartedAt: 2021-01-30 16:27:15 -0500 (Sat, 30 Jan 2021) |
EndedAt: 2021-01-30 16:27:50 -0500 (Sat, 30 Jan 2021) |
EllapsedTime: 34.8 seconds |
RetCode: 0 |
Status: OK |
############################################################################## ############################################################################## ### ### Running command: ### ### /Library/Frameworks/R.framework/Versions/Current/Resources/bin/R CMD INSTALL TransView ### ############################################################################## ############################################################################## * installing to library ‘/Library/Frameworks/R.framework/Versions/4.1-arm64/Resources/library’ * installing *source* package ‘TransView’ ... ** using staged installation ** libs clang -I"/Library/Frameworks/R.framework/Resources/include" -DNDEBUG -D_FILE_OFFSET_BITS=64 -I'/Library/Frameworks/R.framework/Versions/4.1-arm64/Resources/library/Rhtslib/include' -I/opt/R/arm64/include -fPIC -falign-functions=64 -Wall -g -O2 -c R_init_TransView.c -o R_init_TransView.o clang -I"/Library/Frameworks/R.framework/Resources/include" -DNDEBUG -D_FILE_OFFSET_BITS=64 -I'/Library/Frameworks/R.framework/Versions/4.1-arm64/Resources/library/Rhtslib/include' -I/opt/R/arm64/include -fPIC -falign-functions=64 -Wall -g -O2 -c bam_plbuf.c -o bam_plbuf.o clang -I"/Library/Frameworks/R.framework/Resources/include" -DNDEBUG -D_FILE_OFFSET_BITS=64 -I'/Library/Frameworks/R.framework/Versions/4.1-arm64/Resources/library/Rhtslib/include' -I/opt/R/arm64/include -fPIC -falign-functions=64 -Wall -g -O2 -c bin_density.c -o bin_density.o clang -I"/Library/Frameworks/R.framework/Resources/include" -DNDEBUG -D_FILE_OFFSET_BITS=64 -I'/Library/Frameworks/R.framework/Versions/4.1-arm64/Resources/library/Rhtslib/include' -I/opt/R/arm64/include -fPIC -falign-functions=64 -Wall -g -O2 -c construct_dc.c -o construct_dc.o In file included from construct_dc.c:23: In file included from ./parse_sam.h:4: In file included from /Library/Frameworks/R.framework/Versions/4.1-arm64/Resources/library/Rhtslib/include/sam.h:28: In file included from /Library/Frameworks/R.framework/Versions/4.1-arm64/Resources/library/Rhtslib/include/htslib/sam.h:31: In file included from /Library/Frameworks/R.framework/Versions/4.1-arm64/Resources/library/Rhtslib/include/htslib/hts.h:35: /Library/Frameworks/R.framework/Versions/4.1-arm64/Resources/library/Rhtslib/include/htslib/hts_log.h:72:1: warning: '__format__' attribute argument not supported: Rprintf [-Wignored-attributes] HTS_FORMAT(printf, 3, 4); ^ /Library/Frameworks/R.framework/Versions/4.1-arm64/Resources/library/Rhtslib/include/htslib/hts_defs.h:91:53: note: expanded from macro 'HTS_FORMAT' #define HTS_FORMAT(type, idx, first) __attribute__((__format__ (type, idx, first))) ^ 1 warning generated. clang -I"/Library/Frameworks/R.framework/Resources/include" -DNDEBUG -D_FILE_OFFSET_BITS=64 -I'/Library/Frameworks/R.framework/Versions/4.1-arm64/Resources/library/Rhtslib/include' -I/opt/R/arm64/include -fPIC -falign-functions=64 -Wall -g -O2 -c parse_sam.c -o parse_sam.o clang -I"/Library/Frameworks/R.framework/Resources/include" -DNDEBUG -D_FILE_OFFSET_BITS=64 -I'/Library/Frameworks/R.framework/Versions/4.1-arm64/Resources/library/Rhtslib/include' -I/opt/R/arm64/include -fPIC -falign-functions=64 -Wall -g -O2 -c sam.c -o sam.o clang -I"/Library/Frameworks/R.framework/Resources/include" -DNDEBUG -D_FILE_OFFSET_BITS=64 -I'/Library/Frameworks/R.framework/Versions/4.1-arm64/Resources/library/Rhtslib/include' -I/opt/R/arm64/include -fPIC -falign-functions=64 -Wall -g -O2 -c slice_dc.c -o slice_dc.o clang -I"/Library/Frameworks/R.framework/Resources/include" -DNDEBUG -D_FILE_OFFSET_BITS=64 -I'/Library/Frameworks/R.framework/Versions/4.1-arm64/Resources/library/Rhtslib/include' -I/opt/R/arm64/include -fPIC -falign-functions=64 -Wall -g -O2 -c visuals.c -o visuals.o clang -dynamiclib -Wl,-headerpad_max_install_names -undefined dynamic_lookup -single_module -multiply_defined suppress -L/Library/Frameworks/R.framework/Resources/lib -L/opt/R/arm64/lib -o TransView.so R_init_TransView.o bam_plbuf.o bin_density.o construct_dc.o parse_sam.o sam.o slice_dc.o visuals.o /Library/Frameworks/R.framework/Versions/4.1-arm64/Resources/library/Rhtslib/usrlib/libhts.a -lcurl -F/Library/Frameworks/R.framework/.. -framework R -Wl,-framework -Wl,CoreFoundation installing to /Library/Frameworks/R.framework/Versions/4.1-arm64/Resources/library/00LOCK-TransView/00new/TransView/libs ** R ** inst ** byte-compile and prepare package for lazy loading ** help *** installing help indices ** building package indices ** installing vignettes ** testing if installed package can be loaded from temporary location ** checking absolute paths in shared objects and dynamic libraries ** testing if installed package can be loaded from final location ** testing if installed package keeps a record of temporary installation path * DONE (TransView)