Back to Build/check report for BioC 3.13 on Apple's new arm64 arch |
|
This page was generated on 2021-01-31 03:53:36 -0500 (Sun, 31 Jan 2021).
These are experimental builds on Apple's new arm64 arch. See here for more information. |
To the developers/maintainers of the Harman package: Please make sure to use the following settings in order to reproduce any error or warning you see on this page. |
Package 800/1938 | Hostname | OS / Arch | INSTALL | BUILD | CHECK | BUILD BIN | ||||||||
Harman 1.19.0 Jason Ross
| taxco | macOS 11.0.1 Big Sur / arm64 | OK | NA | NA | |||||||||
Package: Harman |
Version: 1.19.0 |
Command: /Library/Frameworks/R.framework/Versions/Current/Resources/bin/R CMD INSTALL Harman |
StartedAt: 2021-01-30 16:09:53 -0500 (Sat, 30 Jan 2021) |
EndedAt: 2021-01-30 16:10:12 -0500 (Sat, 30 Jan 2021) |
EllapsedTime: 19.7 seconds |
RetCode: 0 |
Status: OK |
############################################################################## ############################################################################## ### ### Running command: ### ### /Library/Frameworks/R.framework/Versions/Current/Resources/bin/R CMD INSTALL Harman ### ############################################################################## ############################################################################## * installing to library ‘/Library/Frameworks/R.framework/Versions/4.1-arm64/Resources/library’ * installing *source* package ‘Harman’ ... ** using staged installation ** libs clang++ -std=gnu++11 -I"/Library/Frameworks/R.framework/Resources/include" -DNDEBUG -D_ARRAYALIGNEMT=4 -D_USE_RCPP=1 -I'/Library/Frameworks/R.framework/Versions/4.1-arm64/Resources/library/Rcpp/include' -I/opt/R/arm64/include `/Library/Frameworks/R.framework/Resources/bin/Rscript -e "Rcpp:::CxxFlags()"` -I. -fPIC -falign-functions=64 -Wall -g -O2 -c Harman.cpp -o Harman.o In file included from Harman.cpp:150: In file included from /Library/Frameworks/R.framework/Versions/4.1-arm64/Resources/library/Rcpp/include/Rcpp.h:57: /Library/Frameworks/R.framework/Versions/4.1-arm64/Resources/library/Rcpp/include/Rcpp/DataFrame.h:136:18: warning: unused variable 'data' [-Wunused-variable] SEXP data = Parent::get__(); ^ In file included from Harman.cpp:182: ./CSelectRandom.h:392:11: warning: unused variable 'currindex' [-Wunused-variable] size_t currindex ; ^ ./CSelectRandom.h:638:25: warning: unused variable 'ts2' [-Wunused-variable] struct timespec ts1, ts2 ; ^ ./CSelectRandom.h:638:20: warning: unused variable 'ts1' [-Wunused-variable] struct timespec ts1, ts2 ; ^ ./CSelectRandom.h:639:18: warning: unused variable 'time2' [-Wunused-variable] double time1, time2 ; ^ ./CSelectRandom.h:639:11: warning: unused variable 'time1' [-Wunused-variable] double time1, time2 ; ^ ./CSelectRandom.h:1019:23: warning: unused variable 'randData2' [-Wunused-variable] size_t randData1, randData2 ; ^ 7 warnings generated. clang++ -std=gnu++11 -dynamiclib -Wl,-headerpad_max_install_names -undefined dynamic_lookup -single_module -multiply_defined suppress -L/Library/Frameworks/R.framework/Resources/lib -L/opt/R/arm64/lib -o Harman.so Harman.o -F/Library/Frameworks/R.framework/.. -framework R -Wl,-framework -Wl,CoreFoundation installing to /Library/Frameworks/R.framework/Versions/4.1-arm64/Resources/library/00LOCK-Harman/00new/Harman/libs ** R ** inst ** byte-compile and prepare package for lazy loading ** help *** installing help indices ** building package indices ** installing vignettes ** testing if installed package can be loaded from temporary location ** checking absolute paths in shared objects and dynamic libraries ** testing if installed package can be loaded from final location ** testing if installed package keeps a record of temporary installation path * DONE (Harman)