Back to Build/check report for BioC 3.13 on Apple's new arm64 arch |
|
This page was generated on 2021-01-31 03:53:36 -0500 (Sun, 31 Jan 2021).
These are experimental builds on Apple's new arm64 arch. See here for more information. |
To the developers/maintainers of the GWENA package: Please make sure to use the following settings in order to reproduce any error or warning you see on this page. |
Package 797/1938 | Hostname | OS / Arch | INSTALL | BUILD | CHECK | BUILD BIN | ||||||||
GWENA 1.1.2 Gwenaëlle Lemoine
| taxco | macOS 11.0.1 Big Sur / arm64 | OK | NA | NA | |||||||||
Package: GWENA |
Version: 1.1.2 |
Command: /Library/Frameworks/R.framework/Versions/Current/Resources/bin/R CMD INSTALL GWENA |
StartedAt: 2021-01-30 18:29:01 -0500 (Sat, 30 Jan 2021) |
EndedAt: 2021-01-30 18:29:52 -0500 (Sat, 30 Jan 2021) |
EllapsedTime: 51.1 seconds |
RetCode: 0 |
Status: OK |
############################################################################## ############################################################################## ### ### Running command: ### ### /Library/Frameworks/R.framework/Versions/Current/Resources/bin/R CMD INSTALL GWENA ### ############################################################################## ############################################################################## * installing to library ‘/Library/Frameworks/R.framework/Versions/4.1-arm64/Resources/library’ * installing *source* package ‘GWENA’ ... ** using staged installation ** R ** data *** moving datasets to lazyload DB ** inst ** byte-compile and prepare package for lazy loading ** help *** installing help indices ** building package indices ** installing vignettes ** testing if installed package can be loaded from temporary location ** testing if installed package can be loaded from final location ** testing if installed package keeps a record of temporary installation path * DONE (GWENA)