Back to Build/check report for BioC 3.13 on Apple's new arm64 arch |
|
This page was generated on 2021-01-31 03:53:36 -0500 (Sun, 31 Jan 2021).
These are experimental builds on Apple's new arm64 arch. See here for more information. |
To the developers/maintainers of the DAPAR package: Please make sure to use the following settings in order to reproduce any error or warning you see on this page. |
Package 423/1938 | Hostname | OS / Arch | INSTALL | BUILD | CHECK | BUILD BIN | ||||||||
DAPAR 1.23.6 Samuel Wieczorek
| taxco | macOS 11.0.1 Big Sur / arm64 | ERROR | NA | NA | |||||||||
Package: DAPAR |
Version: 1.23.6 |
Command: /Library/Frameworks/R.framework/Versions/Current/Resources/bin/R CMD INSTALL DAPAR |
StartedAt: 2021-01-30 19:16:30 -0500 (Sat, 30 Jan 2021) |
EndedAt: 2021-01-30 19:16:31 -0500 (Sat, 30 Jan 2021) |
EllapsedTime: 1.1 seconds |
RetCode: 1 |
Status: ERROR |
############################################################################## ############################################################################## ### ### Running command: ### ### /Library/Frameworks/R.framework/Versions/Current/Resources/bin/R CMD INSTALL DAPAR ### ############################################################################## ############################################################################## * installing to library ‘/Library/Frameworks/R.framework/Versions/4.1-arm64/Resources/library’ ERROR: dependencies ‘MSnbase’, ‘vioplot’, ‘DAPARdata’, ‘Mfuzz’ are not available for package ‘DAPAR’ * removing ‘/Library/Frameworks/R.framework/Versions/4.1-arm64/Resources/library/DAPAR’