Back to Build/check report for BioC 3.13 on Apple's new arm64 arch |
|
This page was generated on 2021-01-31 03:53:36 -0500 (Sun, 31 Jan 2021).
These are experimental builds on Apple's new arm64 arch. See here for more information. |
To the developers/maintainers of the CellNOptR package: Please make sure to use the following settings in order to reproduce any error or warning you see on this page. |
Package 256/1938 | Hostname | OS / Arch | INSTALL | BUILD | CHECK | BUILD BIN | ||||||||
CellNOptR 1.37.0 A.Gabor
| taxco | macOS 11.0.1 Big Sur / arm64 | OK | NA | NA | |||||||||
Package: CellNOptR |
Version: 1.37.0 |
Command: /Library/Frameworks/R.framework/Versions/Current/Resources/bin/R CMD INSTALL CellNOptR |
StartedAt: 2021-01-30 16:43:38 -0500 (Sat, 30 Jan 2021) |
EndedAt: 2021-01-30 16:44:08 -0500 (Sat, 30 Jan 2021) |
EllapsedTime: 30.0 seconds |
RetCode: 0 |
Status: OK |
############################################################################## ############################################################################## ### ### Running command: ### ### /Library/Frameworks/R.framework/Versions/Current/Resources/bin/R CMD INSTALL CellNOptR ### ############################################################################## ############################################################################## * installing to library ‘/Library/Frameworks/R.framework/Versions/4.1-arm64/Resources/library’ * installing *source* package ‘CellNOptR’ ... ** using staged installation ** libs clang -I"/Library/Frameworks/R.framework/Resources/include" -DNDEBUG -I/opt/R/arm64/include -I./include -fPIC -falign-functions=64 -Wall -g -O2 -c getFit.c -o getFit.o getFit.c:39:6: warning: unused variable 'curr_max' [-Wunused-variable] int curr_max = 0; ^ getFit.c:47:6: warning: unused variable 'nReacs' [-Wunused-variable] int nReacs = INTEGER(nReacs_in)[0]; ^ getFit.c:40:6: warning: unused variable 'or_max' [-Wunused-variable] int or_max = 0; ^ getFit.c:41:6: warning: unused variable 'selection' [-Wunused-variable] int selection[40]; ^ getFit.c:42:6: warning: unused variable 'selCounter' [-Wunused-variable] int selCounter = 0; ^ 5 warnings generated. clang -I"/Library/Frameworks/R.framework/Resources/include" -DNDEBUG -I/opt/R/arm64/include -I./include -fPIC -falign-functions=64 -Wall -g -O2 -c simulatorT1.c -o simulatorT1.o clang -I"/Library/Frameworks/R.framework/Resources/include" -DNDEBUG -I/opt/R/arm64/include -I./include -fPIC -falign-functions=64 -Wall -g -O2 -c simulatorTN.c -o simulatorTN.o simulatorTN.c:303:24: warning: equality comparison with extraneous parentheses [-Wparentheses-equality] if((track_cond == nCond)) { ~~~~~~~~~~~^~~~~~~~ simulatorTN.c:303:24: note: remove extraneous parentheses around the comparison to silence this warning if((track_cond == nCond)) { ~ ^ ~ simulatorTN.c:303:24: note: use '=' to turn this equality comparison into an assignment if((track_cond == nCond)) { ^~ = simulatorTN.c:501:28: warning: equality comparison with extraneous parentheses [-Wparentheses-equality] if((track_cond == nCond)) { ~~~~~~~~~~~^~~~~~~~ simulatorTN.c:501:28: note: remove extraneous parentheses around the comparison to silence this warning if((track_cond == nCond)) { ~ ^ ~ simulatorTN.c:501:28: note: use '=' to turn this equality comparison into an assignment if((track_cond == nCond)) { ^~ = 2 warnings generated. clang -dynamiclib -Wl,-headerpad_max_install_names -undefined dynamic_lookup -single_module -multiply_defined suppress -L/Library/Frameworks/R.framework/Resources/lib -L/opt/R/arm64/lib -o CellNOptR.so getFit.o simulatorT1.o simulatorTN.o -F/Library/Frameworks/R.framework/.. -framework R -Wl,-framework -Wl,CoreFoundation installing to /Library/Frameworks/R.framework/Versions/4.1-arm64/Resources/library/00LOCK-CellNOptR/00new/CellNOptR/libs ** R ** data ** inst ** byte-compile and prepare package for lazy loading ** help *** installing help indices ** building package indices ** installing vignettes ** testing if installed package can be loaded from temporary location ** checking absolute paths in shared objects and dynamic libraries ** testing if installed package can be loaded from final location ** testing if installed package keeps a record of temporary installation path * DONE (CellNOptR)