Back to Build/check report for BioC 3.13 on Apple's new arm64 arch |
|
This page was generated on 2021-01-31 03:53:36 -0500 (Sun, 31 Jan 2021).
These are experimental builds on Apple's new arm64 arch. See here for more information. |
To the developers/maintainers of the CNORode package: Please make sure to use the following settings in order to reproduce any error or warning you see on this page. |
Package 335/1938 | Hostname | OS / Arch | INSTALL | BUILD | CHECK | BUILD BIN | ||||||||
CNORode 1.33.0 Enio Gjerga
| taxco | macOS 11.0.1 Big Sur / arm64 | ERROR | NA | NA | |||||||||
Package: CNORode |
Version: 1.33.0 |
Command: /Library/Frameworks/R.framework/Versions/Current/Resources/bin/R CMD INSTALL CNORode |
StartedAt: 2021-01-30 16:47:53 -0500 (Sat, 30 Jan 2021) |
EndedAt: 2021-01-30 16:48:10 -0500 (Sat, 30 Jan 2021) |
EllapsedTime: 16.6 seconds |
RetCode: 1 |
Status: ERROR |
############################################################################## ############################################################################## ### ### Running command: ### ### /Library/Frameworks/R.framework/Versions/Current/Resources/bin/R CMD INSTALL CNORode ### ############################################################################## ############################################################################## * installing to library ‘/Library/Frameworks/R.framework/Versions/4.1-arm64/Resources/library’ * installing *source* package ‘CNORode’ ... ** using staged installation ** libs clang -I"/Library/Frameworks/R.framework/Resources/include" -DNDEBUG -I/opt/R/arm64/include -I./include -fPIC -falign-functions=64 -Wall -g -O2 -c FG_transfer_function.c -o FG_transfer_function.o clang -I"/Library/Frameworks/R.framework/Resources/include" -DNDEBUG -I/opt/R/arm64/include -I./include -fPIC -falign-functions=64 -Wall -g -O2 -c cvodea.c -o cvodea.o clang -I"/Library/Frameworks/R.framework/Resources/include" -DNDEBUG -I/opt/R/arm64/include -I./include -fPIC -falign-functions=64 -Wall -g -O2 -c cvodea_io.c -o cvodea_io.o clang -I"/Library/Frameworks/R.framework/Resources/include" -DNDEBUG -I/opt/R/arm64/include -I./include -fPIC -falign-functions=64 -Wall -g -O2 -c cvodes.c -o cvodes.o clang -I"/Library/Frameworks/R.framework/Resources/include" -DNDEBUG -I/opt/R/arm64/include -I./include -fPIC -falign-functions=64 -Wall -g -O2 -c cvodes_band.c -o cvodes_band.o clang -I"/Library/Frameworks/R.framework/Resources/include" -DNDEBUG -I/opt/R/arm64/include -I./include -fPIC -falign-functions=64 -Wall -g -O2 -c cvodes_bandpre.c -o cvodes_bandpre.o clang -I"/Library/Frameworks/R.framework/Resources/include" -DNDEBUG -I/opt/R/arm64/include -I./include -fPIC -falign-functions=64 -Wall -g -O2 -c cvodes_bbdpre.c -o cvodes_bbdpre.o clang -I"/Library/Frameworks/R.framework/Resources/include" -DNDEBUG -I/opt/R/arm64/include -I./include -fPIC -falign-functions=64 -Wall -g -O2 -c cvodes_dense.c -o cvodes_dense.o clang -I"/Library/Frameworks/R.framework/Resources/include" -DNDEBUG -I/opt/R/arm64/include -I./include -fPIC -falign-functions=64 -Wall -g -O2 -c cvodes_diag.c -o cvodes_diag.o clang -I"/Library/Frameworks/R.framework/Resources/include" -DNDEBUG -I/opt/R/arm64/include -I./include -fPIC -falign-functions=64 -Wall -g -O2 -c cvodes_direct.c -o cvodes_direct.o clang -I"/Library/Frameworks/R.framework/Resources/include" -DNDEBUG -I/opt/R/arm64/include -I./include -fPIC -falign-functions=64 -Wall -g -O2 -c cvodes_io.c -o cvodes_io.o clang -I"/Library/Frameworks/R.framework/Resources/include" -DNDEBUG -I/opt/R/arm64/include -I./include -fPIC -falign-functions=64 -Wall -g -O2 -c cvodes_spbcgs.c -o cvodes_spbcgs.o clang -I"/Library/Frameworks/R.framework/Resources/include" -DNDEBUG -I/opt/R/arm64/include -I./include -fPIC -falign-functions=64 -Wall -g -O2 -c cvodes_spgmr.c -o cvodes_spgmr.o clang -I"/Library/Frameworks/R.framework/Resources/include" -DNDEBUG -I/opt/R/arm64/include -I./include -fPIC -falign-functions=64 -Wall -g -O2 -c cvodes_spils.c -o cvodes_spils.o clang -I"/Library/Frameworks/R.framework/Resources/include" -DNDEBUG -I/opt/R/arm64/include -I./include -fPIC -falign-functions=64 -Wall -g -O2 -c cvodes_sptfqmr.c -o cvodes_sptfqmr.o clang -I"/Library/Frameworks/R.framework/Resources/include" -DNDEBUG -I/opt/R/arm64/include -I./include -fPIC -falign-functions=64 -Wall -g -O2 -c decimal2binary.c -o decimal2binary.o clang -I"/Library/Frameworks/R.framework/Resources/include" -DNDEBUG -I/opt/R/arm64/include -I./include -fPIC -falign-functions=64 -Wall -g -O2 -c findStates.c -o findStates.o clang -I"/Library/Frameworks/R.framework/Resources/include" -DNDEBUG -I/opt/R/arm64/include -I./include -fPIC -falign-functions=64 -Wall -g -O2 -c fnvector_serial.c -o fnvector_serial.o clang -I"/Library/Frameworks/R.framework/Resources/include" -DNDEBUG -I/opt/R/arm64/include -I./include -fPIC -falign-functions=64 -Wall -g -O2 -c getAdjacencyMatrix.c -o getAdjacencyMatrix.o clang -I"/Library/Frameworks/R.framework/Resources/include" -DNDEBUG -I/opt/R/arm64/include -I./include -fPIC -falign-functions=64 -Wall -g -O2 -c getNumBits.c -o getNumBits.o clang -I"/Library/Frameworks/R.framework/Resources/include" -DNDEBUG -I/opt/R/arm64/include -I./include -fPIC -falign-functions=64 -Wall -g -O2 -c getNumInputs.c -o getNumInputs.o clang -I"/Library/Frameworks/R.framework/Resources/include" -DNDEBUG -I/opt/R/arm64/include -I./include -fPIC -falign-functions=64 -Wall -g -O2 -c getStateIndex.c -o getStateIndex.o clang -I"/Library/Frameworks/R.framework/Resources/include" -DNDEBUG -I/opt/R/arm64/include -I./include -fPIC -falign-functions=64 -Wall -g -O2 -c getTruthTables.c -o getTruthTables.o getTruthTables.c:17:14: warning: unused variable 'n' [-Wunused-variable] int i,j,k,m,n,counter1,input,miniterm; ^ 1 warning generated. clang -I"/Library/Frameworks/R.framework/Resources/include" -DNDEBUG -I/opt/R/arm64/include -I./include -fPIC -falign-functions=64 -Wall -g -O2 -c get_count_bits.c -o get_count_bits.o clang -I"/Library/Frameworks/R.framework/Resources/include" -DNDEBUG -I/opt/R/arm64/include -I./include -fPIC -falign-functions=64 -Wall -g -O2 -c get_input_index.c -o get_input_index.o clang -I"/Library/Frameworks/R.framework/Resources/include" -DNDEBUG -I/opt/R/arm64/include -I./include -fPIC -falign-functions=64 -Wall -g -O2 -c get_support_truth_tables.c -o get_support_truth_tables.o get_support_truth_tables.c:16:10: warning: unused variable 'k' [-Wunused-variable] int i,j,k; ^ 1 warning generated. clang -I"/Library/Frameworks/R.framework/Resources/include" -DNDEBUG -I/opt/R/arm64/include -I./include -fPIC -falign-functions=64 -Wall -g -O2 -c get_truth_tables_index.c -o get_truth_tables_index.o clang -I"/Library/Frameworks/R.framework/Resources/include" -DNDEBUG -I/opt/R/arm64/include -I./include -fPIC -falign-functions=64 -Wall -g -O2 -c hill_function.c -o hill_function.o clang -I"/Library/Frameworks/R.framework/Resources/include" -DNDEBUG -I/opt/R/arm64/include -I./include -fPIC -falign-functions=64 -Wall -g -O2 -c linear_transfer_function.c -o linear_transfer_function.o clang -I"/Library/Frameworks/R.framework/Resources/include" -DNDEBUG -I/opt/R/arm64/include -I./include -fPIC -falign-functions=64 -Wall -g -O2 -c normHill.c -o normHill.o clang -I"/Library/Frameworks/R.framework/Resources/include" -DNDEBUG -I/opt/R/arm64/include -I./include -fPIC -falign-functions=64 -Wall -g -O2 -c normHill_mod.c -o normHill_mod.o clang -I"/Library/Frameworks/R.framework/Resources/include" -DNDEBUG -I/opt/R/arm64/include -I./include -fPIC -falign-functions=64 -Wall -g -O2 -c nvector_serial.c -o nvector_serial.o clang -I"/Library/Frameworks/R.framework/Resources/include" -DNDEBUG -I/opt/R/arm64/include -I./include -fPIC -falign-functions=64 -Wall -g -O2 -c printAdjMat.c -o printAdjMat.o clang -I"/Library/Frameworks/R.framework/Resources/include" -DNDEBUG -I/opt/R/arm64/include -I./include -fPIC -falign-functions=64 -Wall -g -O2 -c printInterMat.c -o printInterMat.o clang -I"/Library/Frameworks/R.framework/Resources/include" -DNDEBUG -I/opt/R/arm64/include -I./include -fPIC -falign-functions=64 -Wall -g -O2 -c printNminiTerms.c -o printNminiTerms.o clang -I"/Library/Frameworks/R.framework/Resources/include" -DNDEBUG -I/opt/R/arm64/include -I./include -fPIC -falign-functions=64 -Wall -g -O2 -c printTruthTables.c -o printTruthTables.o clang -I"/Library/Frameworks/R.framework/Resources/include" -DNDEBUG -I/opt/R/arm64/include -I./include -fPIC -falign-functions=64 -Wall -g -O2 -c rhsODE.c -o rhsODE.o rhsODE.c:85:9: warning: 'Ith' macro redefined [-Wmacro-redefined] #define Ith(v,i) ( v[i] ) ^ rhsODE.c:10:9: note: previous definition is here #define Ith(v,i) ( NV_DATA_S(v)[i] ) ^ 1 warning generated. clang -I"/Library/Frameworks/R.framework/Resources/include" -DNDEBUG -I/opt/R/arm64/include -I./include -fPIC -falign-functions=64 -Wall -g -O2 -c sim_logic_ode.c -o sim_logic_ode.o clang -I"/Library/Frameworks/R.framework/Resources/include" -DNDEBUG -I/opt/R/arm64/include -I./include -fPIC -falign-functions=64 -Wall -g -O2 -c simulateODE.c -o simulateODE.o simulateODE.c:169:11: error: implicit declaration of function 'CVDense' is invalid in C99 [-Werror,-Wimplicit-function-declaration] flag = CVDense(cvode_mem, neq); ^ 1 error generated. make: *** [simulateODE.o] Error 1 ERROR: compilation failed for package ‘CNORode’ * removing ‘/Library/Frameworks/R.framework/Versions/4.1-arm64/Resources/library/CNORode’