Back to Build/check report for BioC 3.13 on Apple's new arm64 arch |
|
This page was generated on 2021-01-31 03:53:36 -0500 (Sun, 31 Jan 2021).
These are experimental builds on Apple's new arm64 arch. See here for more information. |
To the developers/maintainers of the ArrayExpressHTS package: Please make sure to use the following settings in order to reproduce any error or warning you see on this page. |
Package 81/1938 | Hostname | OS / Arch | INSTALL | BUILD | CHECK | BUILD BIN | ||||||||
ArrayExpressHTS 1.41.1 Angela Goncalves
| taxco | macOS 11.0.1 Big Sur / arm64 | ERROR | NA | NA | |||||||||
Package: ArrayExpressHTS |
Version: 1.41.1 |
Command: /Library/Frameworks/R.framework/Versions/Current/Resources/bin/R CMD INSTALL ArrayExpressHTS |
StartedAt: 2021-01-30 17:12:44 -0500 (Sat, 30 Jan 2021) |
EndedAt: 2021-01-30 17:12:45 -0500 (Sat, 30 Jan 2021) |
EllapsedTime: 1.3 seconds |
RetCode: 1 |
Status: ERROR |
############################################################################## ############################################################################## ### ### Running command: ### ### /Library/Frameworks/R.framework/Versions/Current/Resources/bin/R CMD INSTALL ArrayExpressHTS ### ############################################################################## ############################################################################## * installing to library ‘/Library/Frameworks/R.framework/Versions/4.1-arm64/Resources/library’ ERROR: dependency ‘rJava’ is not available for package ‘ArrayExpressHTS’ * removing ‘/Library/Frameworks/R.framework/Versions/4.1-arm64/Resources/library/ArrayExpressHTS’