Back to Build/check report for BioC 3.13 on Apple's new arm64 arch |
|
This page was generated on 2021-01-31 03:53:36 -0500 (Sun, 31 Jan 2021).
These are experimental builds on Apple's new arm64 arch. See here for more information. |
To the developers/maintainers of the ABarray package: Please make sure to use the following settings in order to reproduce any error or warning you see on this page. |
Package 8/1938 | Hostname | OS / Arch | INSTALL | BUILD | CHECK | BUILD BIN | ||||||||
ABarray 1.59.0 Yongming Andrew Sun
| taxco | macOS 11.0.1 Big Sur / arm64 | ERROR | NA | NA | |||||||||
Package: ABarray |
Version: 1.59.0 |
Command: /Library/Frameworks/R.framework/Versions/Current/Resources/bin/R CMD INSTALL ABarray |
StartedAt: 2021-01-30 16:43:13 -0500 (Sat, 30 Jan 2021) |
EndedAt: 2021-01-30 16:43:19 -0500 (Sat, 30 Jan 2021) |
EllapsedTime: 5.6 seconds |
RetCode: 1 |
Status: ERROR |
############################################################################## ############################################################################## ### ### Running command: ### ### /Library/Frameworks/R.framework/Versions/Current/Resources/bin/R CMD INSTALL ABarray ### ############################################################################## ############################################################################## * installing to library ‘/Library/Frameworks/R.framework/Versions/4.1-arm64/Resources/library’ * installing *source* package ‘ABarray’ ... ** using staged installation ** R ** byte-compile and prepare package for lazy loading Error: .onLoad failed in loadNamespace() for 'tcltk', details: call: dyn.load(file, DLLpath = DLLpath, ...) error: unable to load shared object '/Library/Frameworks/R.framework/Versions/4.1-arm64/Resources/library/tcltk/libs/tcltk.so': dlopen(/Library/Frameworks/R.framework/Versions/4.1-arm64/Resources/library/tcltk/libs/tcltk.so, 10): Library not loaded: /Library/Frameworks/Tcl.framework/Versions/8.6/Tcl Referenced from: /Library/Frameworks/R.framework/Versions/4.1-arm64/Resources/library/tcltk/libs/tcltk.so Reason: image not found Execution halted ERROR: lazy loading failed for package ‘ABarray’ * removing ‘/Library/Frameworks/R.framework/Versions/4.1-arm64/Resources/library/ABarray’