All our mirrors of open source software are available via http, https, ftp and an onion service. More information about our mirrors including statistics and contact information is available on our mirror info pages.
For information about dotsrc.org and our other services please go to our website.
File Name ↓ | File Size ↓ | Date ↓ |
---|---|---|
Parent directory/ | - | - |
DynDoc/ | - | 2023-12-27 16:15:01 |
Biostrings/ | - | 2024-06-07 15:15:01 |
DelayedMatrixStats/ | - | 2024-06-07 15:15:01 |
SingleCellExperiment/ | - | 2024-06-07 15:15:01 |
AnnotationDbi/ | - | 2024-06-07 15:15:01 |
BiocParallel/ | - | 2024-06-07 15:15:01 |
SummarizedExperiment/ | - | 2024-06-07 15:15:01 |
OrganismDbi/ | - | 2024-06-07 15:15:01 |
ROC/ | - | 2024-06-07 15:15:01 |
mzR/ | - | 2024-06-07 15:15:01 |
biomaRt/ | - | 2024-06-07 15:15:01 |
BiocIO/ | - | 2024-06-07 15:15:01 |
BiocSingular/ | - | 2024-06-07 15:15:01 |
GEOquery/ | - | 2024-06-07 15:15:01 |
illuminaio/ | - | 2024-06-07 15:15:01 |
BiocNeighbors/ | - | 2024-06-07 15:15:01 |
zlibbioc/ | - | 2024-06-07 15:15:01 |
AnnotationHub/ | - | 2024-06-07 15:15:01 |
Rgraphviz/ | - | 2024-06-07 15:15:01 |
widgetTools/ | - | 2024-06-07 15:15:01 |
BiocFileCache/ | - | 2024-06-07 15:15:01 |
ProtGenerics/ | - | 2024-06-07 15:15:01 |
fishpond/ | - | 2024-06-07 15:15:01 |
limma/ | - | 2024-06-07 15:15:01 |
ggbio/ | - | 2024-06-07 15:15:01 |
tximeta/ | - | 2024-06-07 15:15:01 |
ShortRead/ | - | 2024-06-07 15:15:01 |
RProtoBufLib/ | - | 2024-06-07 15:15:01 |
BSgenome/ | - | 2024-06-07 15:15:01 |
apeglm/ | - | 2024-06-07 15:15:01 |
S4Arrays/ | - | 2024-06-07 15:15:01 |
Rdisop/ | - | 2024-06-07 15:15:01 |
gcrma/ | - | 2024-06-07 15:15:01 |
rhdf5/ | - | 2024-06-07 15:15:01 |
fgsea/ | - | 2024-06-07 15:15:01 |
ComplexHeatmap/ | - | 2024-06-07 15:15:01 |
Rhtslib/ | - | 2024-06-07 15:15:01 |
eds/ | - | 2024-06-07 15:15:01 |
SPIA/ | - | 2024-06-07 15:15:01 |
GenomeInfoDb/ | - | 2024-06-07 15:15:01 |
impute/ | - | 2024-06-07 15:15:01 |
rtracklayer/ | - | 2024-06-07 15:15:01 |
scuttle/ | - | 2024-06-07 15:15:01 |
dir.expiry/ | - | 2024-06-07 15:15:01 |
MatrixGenerics/ | - | 2024-06-07 15:15:01 |
Rsubread/ | - | 2024-06-07 15:15:01 |
DelayedArray/ | - | 2024-06-07 15:15:01 |
edgeR/ | - | 2024-06-07 15:15:01 |
basilisk.utils/ | - | 2024-06-07 15:15:01 |
preprocessCore/ | - | 2024-06-07 15:15:01 |
graph/ | - | 2024-06-07 15:15:01 |
tximport/ | - | 2024-06-07 15:15:01 |
gdsfmt/ | - | 2024-06-07 15:15:01 |
GenomicFeatures/ | - | 2024-06-07 15:15:01 |
qvalue/ | - | 2024-06-07 15:15:01 |
tkWidgets/ | - | 2023-12-27 16:15:01 |
microRNA/ | - | 2024-06-07 15:15:01 |
Gviz/ | - | 2024-06-07 15:15:01 |
enrichplot/ | - | 2024-06-07 15:15:01 |
AnnotationForge/ | - | 2024-06-07 15:15:01 |
csaw/ | - | 2024-06-07 15:15:01 |
basilisk/ | - | 2024-06-07 15:15:01 |
RBGL/ | - | 2024-06-07 15:15:01 |
genefilter/ | - | 2024-06-07 15:15:01 |
rBiopaxParser/ | - | 2024-06-07 15:15:01 |
SparseArray/ | - | 2024-06-07 15:15:01 |
DOSE/ | - | 2024-06-07 15:15:01 |
affyPLM/ | - | 2024-06-07 15:15:01 |
cytolib/ | - | 2024-06-07 15:15:01 |
MsCoreUtils/ | - | 2024-06-07 15:15:01 |
multtest/ | - | 2024-06-07 15:15:01 |
BiocBaseUtils/ | - | 2024-06-07 15:15:01 |
sparseMatrixStats/ | - | 2024-06-07 15:15:01 |
zellkonverter/ | - | 2024-06-07 15:15:01 |
pcaMethods/ | - | 2024-06-07 15:15:01 |
BiocStyle/ | - | 2024-06-07 15:15:01 |
vsn/ | - | 2024-06-07 15:15:01 |
DEXSeq/ | - | 2024-06-07 15:15:01 |
flowCore/ | - | 2024-06-07 15:15:01 |
ExperimentHub/ | - | 2024-06-07 15:15:01 |
GenomicRanges/ | - | 2024-06-07 15:15:01 |
biocViews/ | - | 2024-06-07 15:15:01 |
ensembldb/ | - | 2024-06-07 15:15:01 |
S4Vectors/ | - | 2024-06-07 15:15:01 |
metapod/ | - | 2024-06-07 15:15:01 |
XVector/ | - | 2024-06-07 15:15:01 |
geneplotter/ | - | 2024-06-07 15:15:01 |
ScaledMatrix/ | - | 2024-06-07 15:15:01 |
rhdf5filters/ | - | 2024-06-07 15:15:01 |
affyio/ | - | 2024-06-07 15:15:01 |
KEGGREST/ | - | 2024-06-07 15:15:01 |
biovizBase/ | - | 2024-06-07 15:15:01 |
BiocCheck/ | - | 2024-06-07 15:15:01 |
BSgenomeForge/ | - | 2024-06-07 15:15:01 |
ggtree/ | - | 2024-06-07 15:15:01 |
GOSemSim/ | - | 2024-06-07 15:15:01 |
BiocVersion/ | - | 2024-06-07 15:15:01 |
glmGamPoi/ | - | 2024-06-07 15:15:01 |
GenomicAlignments/ | - | 2024-06-07 15:15:01 |
treeio/ | - | 2024-06-07 15:15:01 |
beachmat/ | - | 2024-06-07 15:15:01 |
ResidualMatrix/ | - | 2024-06-07 15:15:01 |
DESeq2/ | - | 2024-06-07 15:15:01 |
annotate/ | - | 2024-06-07 15:15:01 |
Biobase/ | - | 2024-06-07 15:15:01 |
snpStats/ | - | 2024-06-07 15:15:01 |
UCSC.utils/ | - | 2024-06-07 15:15:01 |
affxparser/ | - | 2024-06-07 15:15:01 |
AnnotationFilter/ | - | 2024-06-07 15:15:01 |
Rhdf5lib/ | - | 2024-06-07 15:15:01 |
IRanges/ | - | 2024-06-07 15:15:01 |
Rsamtools/ | - | 2024-06-07 15:15:01 |
interactiveDisplayBase/ | - | 2024-06-07 15:15:01 |
MSnbase/ | - | 2024-06-07 15:15:01 |
mzID/ | - | 2024-06-07 15:15:01 |
clusterProfiler/ | - | 2024-06-07 15:15:01 |
VariantAnnotation/ | - | 2024-06-07 15:15:01 |
HDF5Array/ | - | 2024-06-07 15:15:01 |
affy/ | - | 2024-06-07 15:15:01 |
KEGGgraph/ | - | 2024-06-07 15:15:01 |
BiocGenerics/ | - | 2024-06-07 15:15:01 |
skipped-index.dcf | 0 B | 2024-06-07 15:15:01 |
DEVEL3b.png | 2.6 KiB | 2024-06-07 15:15:01 |
Renviron.bioc | 3.1 KiB | 2024-06-07 15:15:01 |
report.js | 6.0 KiB | 2024-06-07 15:15:01 |
nebbiolo1-NodeInfo.html | 6.8 KiB | 2024-06-07 15:15:01 |
120px-Red_Light_Icon.svg.png | 7.0 KiB | 2024-06-07 15:15:01 |
120px-Green_Light_Icon.svg.png | 7.1 KiB | 2024-06-07 15:15:01 |
120px-Blue_Light_Icon.svg.png | 7.1 KiB | 2024-06-07 15:15:01 |
report.css | 10.7 KiB | 2024-06-07 15:15:01 |
meat-index.dcf | 13.0 KiB | 2024-06-07 15:15:01 |
BUILD_STATUS_DB.txt | 15.6 KiB | 2024-06-07 15:15:01 |
index.html | 89.0 KiB | 2024-06-07 15:15:01 |
report.tgz | 162.9 KiB | 2024-06-07 15:15:01 |
nebbiolo1-R-instpkgs.html | 521.0 KiB | 2024-06-07 15:15:01 |