Welcome to mirrors.dotsrc.org

All our mirrors of open source software are available via http, https, ftp and an onion service. More information about our mirrors including statistics and contact information is available on our mirror info pages.

For information about dotsrc.org and our other services please go to our website.

Index of /bioconductor/checkResults/devel/bioc-testing-LATEST/

File Name  ↓ File Size  ↓ Date  ↓ 
Parent directory/--
DESeq2/-2025-02-16 14:43:16
EnhancedVolcano/-2025-02-16 14:43:16
DEXSeq/-2025-02-16 14:43:16
supraHex/-2025-02-16 14:43:17
BSgenome/-2025-02-16 14:43:16
SingleCellExperiment/-2025-02-16 14:43:17
bamsignals/-2025-02-16 14:43:15
Rgraphviz/-2025-02-16 14:43:17
gage/-2025-02-16 14:43:16
BiocSingular/-2025-02-16 14:43:16
AnnotationHub/-2025-02-16 14:43:15
BiocNeighbors/-2025-02-16 14:43:16
MsCoreUtils/-2025-02-16 14:43:16
SpatialExperiment/-2025-02-16 14:43:17
rpx/-2025-02-16 14:43:17
alabaster.schemas/-2025-02-16 14:43:15
DirichletMultinomial/-2025-02-16 14:43:16
flowClust/-2025-02-16 14:43:16
limma/-2025-02-16 14:43:16
DNAcopy/-2025-02-16 14:43:16
VariantAnnotation/-2025-02-16 14:43:17
affxparser/-2025-02-16 14:43:15
h5mread/-2025-02-16 14:43:16
lpsymphony/-2025-02-16 14:43:16
interactiveDisplay/-2025-02-16 14:43:16
LoomExperiment/-2025-02-16 14:43:16
geneplotter/-2025-02-16 14:43:16
BiocFileCache/-2025-02-16 14:43:15
treeio/-2025-02-16 14:43:17
AnnotationHubData/-2025-02-16 14:43:15
flowWorkspace/-2025-02-16 14:43:16
MsBackendMgf/-2025-02-16 14:43:16
assorthead/-2025-02-16 14:43:15
affyio/-2025-02-16 14:43:15
S4Arrays/-2025-02-16 14:43:17
ProtGenerics/-2025-02-16 14:43:16
ggtree/-2025-02-16 14:43:16
SummarizedExperiment/-2025-02-16 14:43:17
scran/-2025-02-16 14:43:17
gypsum/-2025-02-16 14:43:16
GenomicAlignments/-2025-02-16 14:43:16
SingleR/-2025-02-16 14:43:17
UCSC.utils/-2025-02-16 14:43:17
bluster/-2025-02-16 14:43:16
AnnotationForge/-2025-02-16 14:43:15
SparseArray/-2025-02-16 14:43:17
BiocParallel/-2025-02-16 14:43:16
GenomicFeatures/-2025-02-16 14:43:16
biovizBase/-2025-02-16 14:43:16
sesame/-2025-02-16 14:43:17
ChemmineR/-2025-02-16 14:43:16
biomaRt/-2025-02-16 14:43:16
eds/-2025-02-16 14:43:16
flowStats/-2025-02-16 14:43:16
DOSE/-2025-02-16 14:43:16
Rsubread/-2025-02-16 14:43:17
RBGL/-2025-02-16 14:43:17
alabaster.base/-2025-02-16 14:43:15
AnnotationDbi/-2025-02-16 14:43:15
Gviz/-2025-02-16 14:43:16
csaw/-2025-02-16 14:43:16
alabaster.sce/-2025-02-16 14:43:15
GenomeInfoDb/-2025-02-16 14:43:16
alabaster.matrix/-2025-02-16 14:43:15
seqLogo/-2025-02-16 14:43:17
txdbmaker/-2025-02-16 14:43:17
Rhtslib/-2025-02-16 14:43:17
clusterProfiler/-2025-02-16 14:43:16
sparseMatrixStats/-2025-02-16 14:43:17
ROC/-2025-02-16 14:43:17
mzR/-2025-02-16 14:43:16
MatrixGenerics/-2025-02-16 14:43:16
batchelor/-2025-02-16 14:43:15
biocthis/-2025-02-16 14:43:16
DelayedArray/-2025-02-16 14:43:16
qvalue/-2025-02-16 14:43:16
graph/-2025-02-16 14:43:16
TCGAbiolinks/-2025-02-16 14:43:17
affy/-2025-02-16 14:43:15
scuttle/-2025-02-16 14:43:17
Category/-2025-02-16 14:43:16
mzID/-2025-02-16 14:43:16
edgeR/-2025-02-16 14:43:16
EBarrays/-2025-02-16 14:43:16
basilisk.utils/-2025-02-16 14:43:15
openCyto/-2025-02-16 14:43:16
gdsfmt/-2025-02-16 14:43:16
pcaMethods/-2025-02-16 14:43:16
scater/-2025-02-16 14:43:17
chihaya/-2025-02-16 14:43:16
preprocessCore/-2025-02-16 14:43:16
ggcyto/-2025-02-16 14:43:16
MLInterfaces/-2025-02-16 14:43:16
MassSpecWavelet/-2025-02-16 14:43:16
RaggedExperiment/-2025-02-16 14:43:16
BiocVersion/-2025-02-16 14:43:16
sva/-2025-02-16 14:43:17
alabaster.ranges/-2025-02-16 14:43:15
enrichplot/-2025-02-16 14:43:16
BumpyMatrix/-2025-02-16 14:43:16
alabaster.se/-2025-02-16 14:43:15
GSEABase/-2025-02-16 14:43:16
zlibbioc/-2025-02-16 14:43:17
HubPub/-2025-02-16 14:43:16
tximeta/-2025-02-16 14:43:17
MsBackendSql/-2025-02-16 14:43:16
ShortRead/-2025-02-16 14:43:17
RProtoBufLib/-2025-02-16 14:43:17
snifter/-2025-02-16 14:43:17
ggbio/-2025-02-16 14:43:16
PSMatch/-2025-02-16 14:43:16
genefilter/-2025-02-16 14:43:16
GEOquery/-2025-02-16 14:43:16
phyloseq/-2025-02-16 14:43:16
fgsea/-2025-02-16 14:43:16
ncdfFlow/-2025-02-16 14:43:16
fishpond/-2025-02-16 14:43:16
gcrma/-2025-02-16 14:43:16
rhdf5/-2025-02-16 14:43:17
DropletUtils/-2025-02-16 14:43:16
DynDoc/-2025-02-16 14:43:16
ComplexHeatmap/-2025-02-16 14:43:16
hpar/-2025-02-16 14:43:16
Rdisop/-2025-02-16 14:43:17
widgetTools/-2025-02-16 14:43:17
BiocStyle/-2025-02-16 14:43:16
dir.expiry/-2025-02-16 14:43:16
zellkonverter/-2025-02-16 14:43:17
GOSemSim/-2025-02-16 14:43:16
KEGGREST/-2025-02-16 14:43:16
IHW/-2025-02-16 14:43:16
BiocBaseUtils/-2025-02-16 14:43:15
ggtreeExtra/-2025-02-16 14:43:16
QFeatures/-2025-02-16 14:43:16
biocViews/-2025-02-16 14:43:16
snpStats/-2025-02-16 14:43:17
metapod/-2025-02-16 14:43:16
GenomicRanges/-2025-02-16 14:43:16
annotate/-2025-02-16 14:43:15
XVector/-2025-02-16 14:43:17
S4Vectors/-2025-02-16 14:43:17
apeglm/-2025-02-16 14:43:15
ensembldb/-2025-02-16 14:43:16
ExperimentHub/-2025-02-16 14:43:16
pathview/-2025-02-16 14:43:16
Spectra/-2025-02-16 14:43:17
beachmat/-2025-02-16 14:43:15
CytoML/-2025-02-16 14:43:16
metagenomeSeq/-2025-02-16 14:43:16
tkWidgets/-2025-02-16 14:43:17
regioneR/-2025-02-16 14:43:17
Rhdf5lib/-2025-02-16 14:43:17
MsFeatures/-2025-02-16 14:43:16
minet/-2025-02-16 14:43:16
densvis/-2025-02-16 14:43:16
pRoloc/-2025-02-16 14:43:16
impute/-2025-02-16 14:43:16
ChemmineOB/-2025-02-16 14:43:16
affyPLM/-2025-02-16 14:43:15
pwalign/-2025-02-16 14:43:16
maftools/-2025-02-16 14:43:16
aroma.light/-2025-02-16 14:43:15
rBiopaxParser/-2025-02-16 14:43:17
OrganismDbi/-2025-02-16 14:43:16
cytolib/-2025-02-16 14:43:16
ReportingTools/-2025-02-16 14:43:17
keggorthology/-2025-02-16 14:43:16
GSVA/-2025-02-16 14:43:16
Wrench/-2025-02-16 14:43:17
mbkmeans/-2025-02-16 14:43:16
biomformat/-2025-02-16 14:43:16
IRanges/-2025-02-16 14:43:16
Rsamtools/-2025-02-16 14:43:17
microRNA/-2025-02-16 14:43:16
xcms/-2025-02-16 14:43:17
rtracklayer/-2025-02-16 14:43:17
CompoundDb/-2025-02-16 14:43:16
BiocIO/-2025-02-16 14:43:15
SPIA/-2025-02-16 14:43:17
MsExperiment/-2025-02-16 14:43:16
ConsensusClusterPlus/-2025-02-16 14:43:16
tximport/-2025-02-16 14:43:17
KEGGgraph/-2025-02-16 14:43:16
karyoploteR/-2025-02-16 14:43:16
HDF5Array/-2025-02-16 14:43:16
illuminaio/-2025-02-16 14:43:16
EnrichedHeatmap/-2025-02-16 14:43:16
MSnbase/-2025-02-16 14:43:16
BiocGenerics/-2025-02-16 14:43:15
basilisk/-2025-02-16 14:43:15
MsDataHub/-2025-02-16 14:43:16
beachmat.hdf5/-2025-02-16 14:43:15
interactiveDisplayBase/-2025-02-16 14:43:16
glmGamPoi/-2025-02-16 14:43:16
ScaledMatrix/-2025-02-16 14:43:17
ExperimentHubData/-2025-02-16 14:43:16
MetaboCoreUtils/-2025-02-16 14:43:16
rhdf5filters/-2025-02-16 14:43:17
MultiAssayExperiment/-2025-02-16 14:43:16
EDASeq/-2025-02-16 14:43:16
BSgenomeForge/-2025-02-16 14:43:16
DECIPHER/-2025-02-16 14:43:16
BiocCheck/-2025-02-16 14:43:15
multtest/-2025-02-16 14:43:16
DelayedMatrixStats/-2025-02-16 14:43:16
Biobase/-2025-02-16 14:43:15
AnnotationFilter/-2025-02-16 14:43:15
gpls/-2025-02-16 14:43:16
flowViz/-2025-02-16 14:43:16
Biostrings/-2025-02-16 14:43:16
ResidualMatrix/-2025-02-16 14:43:17
scrapper/-2025-02-16 14:43:17
fmcsR/-2025-02-16 14:43:16
EBImage/-2025-02-16 14:43:16
GOstats/-2025-02-16 14:43:16
flowCore/-2025-02-16 14:43:16
vsn/-2025-02-16 14:43:17
skipped-index.dcf0 B2025-02-16 14:43:15
DEVEL3b.png2.6 KiB2025-02-16 14:43:15
Renviron.bioc3.3 KiB2025-02-16 14:43:15
report.js6.0 KiB2025-02-16 14:43:15
120px-Red_Light_Icon.svg.png7.0 KiB2025-02-16 14:43:15
teran2-NodeInfo.html7.0 KiB2025-02-16 14:43:15
120px-Green_Light_Icon.svg.png7.1 KiB2025-02-16 14:43:15
120px-Blue_Light_Icon.svg.png7.1 KiB2025-02-16 14:43:15
report.css11.0 KiB2025-02-16 14:43:15
BUILD_STATUS_DB.txt19.7 KiB2025-02-16 14:43:15
meat-index.dcf23.6 KiB2025-02-16 14:43:15
teran2-R-instpkgs.html113.9 KiB2025-02-16 14:43:15
index.html232.1 KiB2025-02-16 14:43:17
report.tgz4.1 MiB2025-02-16 14:43:19