##############################################################################
##############################################################################
###
### Running command:
###
### /home/biocbuild/bbs-3.6-bioc/R/bin/R CMD build --keep-empty-dirs --no-resave-data hgu133plus2barcodevecs
###
##############################################################################
##############################################################################
* checking for file ‘hgu133plus2barcodevecs/DESCRIPTION’ ... OK
* preparing ‘hgu133plus2barcodevecs’:
* checking DESCRIPTION meta-information ... OK
* checking for LF line-endings in source and make files
* checking for empty or unneeded directories
* looking to see if a ‘data/datalist’ file should be added
* building ‘hgu133plus2barcodevecs_1.15.0.tar.gz’