##############################################################################
##############################################################################
###
### Running command:
###
### cd waveTiling.buildbin-libdir/waveTiling && zip -r ../../waveTiling_1.18.0.zip . & cd ../..
###
##############################################################################
##############################################################################
adding: DESCRIPTION (264 bytes security) (deflated 43%)
adding: doc/ (304 bytes security) (stored 0%)
adding: doc/index.html (264 bytes security) (deflated 60%)
adding: doc/waveTiling-vignette.pdf (264 bytes security) (deflated 7%)
adding: doc/waveTiling-vignette.R (264 bytes security) (deflated 76%)
adding: doc/waveTiling-vignette.Rnw (264 bytes security) (deflated 65%)
adding: help/ (304 bytes security) (stored 0%)
adding: help/aliases.rds (264 bytes security) (stored 0%)
adding: help/AnIndex (264 bytes security) (deflated 85%)
adding: help/paths.rds (264 bytes security) (stored 0%)
adding: help/waveTiling.rdb (264 bytes security) (deflated 3%)
adding: help/waveTiling.rdx (264 bytes security) (stored 0%)
adding: html/ (304 bytes security) (stored 0%)
adding: html/00Index.html (264 bytes security) (deflated 89%)
adding: html/R.css (264 bytes security) (deflated 75%)
adding: INDEX (264 bytes security) (deflated 67%)
adding: libs/ (304 bytes security) (stored 0%)
adding: libs/i386/ (304 bytes security) (stored 0%)
adding: libs/i386/waveTiling.dll (264 bytes security) (deflated 61%)
adding: libs/x64/ (304 bytes security) (stored 0%)
adding: libs/x64/waveTiling.dll (264 bytes security) (deflated 62%)
adding: MD5 (264 bytes security) (deflated 44%)
adding: Meta/ (304 bytes security) (stored 0%)
adding: Meta/features.rds (264 bytes security) (stored 0%)
adding: Meta/hsearch.rds (264 bytes security) (stored 0%)
adding: Meta/links.rds (264 bytes security) (stored 0%)
adding: Meta/nsInfo.rds (264 bytes security) (stored 0%)
adding: Meta/package.rds (264 bytes security) (stored 0%)
adding: Meta/Rd.rds (264 bytes security) (stored 0%)
adding: Meta/vignette.rds (264 bytes security) (stored 0%)
adding: NAMESPACE (264 bytes security) (deflated 61%)
adding: NEWS.Rd (264 bytes security) (deflated 18%)
adding: R/ (304 bytes security) (stored 0%)
adding: R/waveTiling (264 bytes security) (deflated 41%)
adding: R/waveTiling.rdb (264 bytes security) (deflated 35%)
adding: R/waveTiling.rdx (264 bytes security) (deflated 1%)