##############################################################################
##############################################################################
###
### Running command:
###
### cd metaMS.buildbin-libdir/metaMS && zip -r ../../metaMS_1.12.0.zip . & cd ../..
###
##############################################################################
##############################################################################
adding: CITATION (264 bytes security) (deflated 55%)
adding: data/ (304 bytes security) (stored 0%)
adding: data/datalist (264 bytes security) (deflated 22%)
adding: data/errf.RData (264 bytes security) (deflated 0%)
adding: data/exptable.RData (264 bytes security) (stored 0%)
adding: data/FEMsettings.RData (264 bytes security) (stored 0%)
adding: data/GCresults.RData (264 bytes security) (deflated 1%)
adding: data/LCDBtest.RData (264 bytes security) (stored 0%)
adding: data/LCresults.RData (264 bytes security) (deflated 0%)
adding: data/threeStdsDB.RData (264 bytes security) (stored 0%)
adding: data/threeStdsInfo.RData (264 bytes security) (stored 0%)
adding: data/threeStdsNIST.RData (264 bytes security) (stored 0%)
adding: DESCRIPTION (264 bytes security) (deflated 53%)
adding: doc/ (304 bytes security) (stored 0%)
adding: doc/index.html (264 bytes security) (deflated 67%)
adding: doc/runGC.pdf (264 bytes security) (deflated 8%)
adding: doc/runGC.R (264 bytes security) (deflated 80%)
adding: doc/runGC.Rnw (264 bytes security) (deflated 64%)
adding: doc/runLC.pdf (264 bytes security) (deflated 6%)
adding: doc/runLC.R (264 bytes security) (deflated 84%)
adding: doc/runLC.Rnw (264 bytes security) (deflated 64%)
adding: help/ (304 bytes security) (stored 0%)
adding: help/aliases.rds (264 bytes security) (stored 0%)
adding: help/AnIndex (264 bytes security) (deflated 68%)
adding: help/metaMS.rdb (264 bytes security) (deflated 1%)
adding: help/metaMS.rdx (264 bytes security) (stored 0%)
adding: help/paths.rds (264 bytes security) (stored 0%)
adding: html/ (304 bytes security) (stored 0%)
adding: html/00Index.html (264 bytes security) (deflated 81%)
adding: html/R.css (264 bytes security) (deflated 75%)
adding: INDEX (264 bytes security) (deflated 65%)
adding: MD5 (264 bytes security) (deflated 44%)
adding: Meta/ (304 bytes security) (stored 0%)
adding: Meta/data.rds (264 bytes security) (stored 0%)
adding: Meta/features.rds (264 bytes security) (stored 0%)
adding: Meta/hsearch.rds (264 bytes security) (stored 0%)
adding: Meta/links.rds (264 bytes security) (stored 0%)
adding: Meta/nsInfo.rds (264 bytes security) (stored 0%)
adding: Meta/package.rds (264 bytes security) (stored 0%)
adding: Meta/Rd.rds (264 bytes security) (stored 0%)
adding: Meta/vignette.rds (264 bytes security) (stored 0%)
adding: NAMESPACE (264 bytes security) (deflated 52%)
adding: NEWS (264 bytes security) (deflated 46%)
adding: R/ (304 bytes security) (stored 0%)
adding: R/metaMS (264 bytes security) (deflated 41%)
adding: R/metaMS.rdb (264 bytes security) (deflated 4%)
adding: R/metaMS.rdx (264 bytes security) (stored 0%)
adding: scripts/ (304 bytes security) (stored 0%)
adding: scripts/GCdata.R (264 bytes security) (deflated 59%)
adding: scripts/LCdata.R (264 bytes security) (deflated 60%)
adding: unitTests/ (304 bytes security) (stored 0%)
adding: unitTests/test_GC.R (264 bytes security) (deflated 50%)
adding: unitTests/test_LC.R (264 bytes security) (deflated 48%)