Back to the "Multiple platform build/check report" | A B C D E F G H [I] J K L M N O P Q R S T U V W X Y Z |
This page was generated on 2017-04-23 14:36:54 -0400 (Sun, 23 Apr 2017).
Package 659/1377 | Hostname | OS / Arch | INSTALL | BUILD | CHECK | BUILD BIN | |||||
illuminaio 0.17.0 Kasper Daniel Hansen
| malbec2 | Linux (Ubuntu 16.04.1 LTS) / x86_64 | OK | OK | OK | ![]() | |||||
tokay2 | Windows Server 2012 R2 Standard / x64 | OK | OK | OK | OK | ![]() | |||||
toluca2 | Mac OS X Mavericks (10.9.5) / x86_64 | OK | [ OK ] | OK | OK | ||||||
veracruz2 | OS X 10.11.6 El Capitan / x86_64 | OK | OK | OK | OK | ![]() |
Package: illuminaio |
Version: 0.17.0 |
Command: /Library/Frameworks/R.framework/Versions/Current/Resources/bin/R CMD build --keep-empty-dirs --no-resave-data illuminaio |
StartedAt: 2017-04-22 20:14:04 -0400 (Sat, 22 Apr 2017) |
EndedAt: 2017-04-22 20:14:25 -0400 (Sat, 22 Apr 2017) |
EllapsedTime: 20.5 seconds |
RetCode: 0 |
Status: OK |
PackageFile: illuminaio_0.17.0.tar.gz |
PackageFileSize: 294.8 KiB |
############################################################################## ############################################################################## ### ### Running command: ### ### /Library/Frameworks/R.framework/Versions/Current/Resources/bin/R CMD build --keep-empty-dirs --no-resave-data illuminaio ### ############################################################################## ############################################################################## * checking for file ‘illuminaio/DESCRIPTION’ ... OK * preparing ‘illuminaio’: * checking DESCRIPTION meta-information ... OK * cleaning src * installing the package to build vignettes * creating vignettes ... OK * cleaning src * checking for LF line-endings in source and make files * checking for empty or unneeded directories WARNING: directory ‘illuminaio/inst/unitTests’ is empty * building ‘illuminaio_0.17.0.tar.gz’