##############################################################################
##############################################################################
###
### Running command:
###
### chmod a+r hiAnnotator -R && C:\Users\biocbuild\bbs-3.5-bioc\R\bin\R.exe CMD build --keep-empty-dirs --no-resave-data hiAnnotator
###
##############################################################################
##############################################################################
* checking for file 'hiAnnotator/DESCRIPTION' ... OK
* preparing 'hiAnnotator':
* checking DESCRIPTION meta-information ... OK
* installing the package to build vignettes
* creating vignettes ... OK
* checking for LF line-endings in source and make files
* checking for empty or unneeded directories
* looking to see if a 'data/datalist' file should be added
* building 'hiAnnotator_1.10.0.tar.gz'