##############################################################################
##############################################################################
###
### Running command:
###
### cd geneXtendeR.buildbin-libdir/geneXtendeR && zip -r ../../geneXtendeR_1.2.0.zip . & cd ../..
###
##############################################################################
##############################################################################
adding: CITATION (264 bytes security) (deflated 46%)
adding: data/ (304 bytes security) (stored 0%)
adding: data/datalist (264 bytes security) (stored 0%)
adding: data/Rdata.rdb (264 bytes security) (deflated 3%)
adding: data/Rdata.rds (264 bytes security) (stored 0%)
adding: data/Rdata.rdx (264 bytes security) (stored 0%)
adding: DESCRIPTION (264 bytes security) (deflated 51%)
adding: doc/ (304 bytes security) (stored 0%)
adding: doc/geneXtendeR.pdf (264 bytes security) (deflated 13%)
adding: doc/geneXtendeR.R (264 bytes security) (deflated 80%)
adding: doc/geneXtendeR.Rnw (264 bytes security) (deflated 61%)
adding: doc/index.html (264 bytes security) (deflated 59%)
adding: extdata/ (304 bytes security) (stored 0%)
adding: extdata/somepeaksfile.txt (264 bytes security) (deflated 64%)
adding: help/ (304 bytes security) (stored 0%)
adding: help/aliases.rds (264 bytes security) (stored 0%)
adding: help/AnIndex (264 bytes security) (deflated 41%)
adding: help/geneXtendeR.rdb (264 bytes security) (deflated 3%)
adding: help/geneXtendeR.rdx (264 bytes security) (stored 0%)
adding: help/paths.rds (264 bytes security) (stored 0%)
adding: html/ (304 bytes security) (stored 0%)
adding: html/00Index.html (264 bytes security) (deflated 59%)
adding: html/R.css (264 bytes security) (deflated 75%)
adding: INDEX (264 bytes security) (deflated 52%)
adding: libs/ (304 bytes security) (stored 0%)
adding: libs/i386/ (304 bytes security) (stored 0%)
adding: libs/i386/geneXtendeR.dll (264 bytes security) (deflated 62%)
adding: libs/x64/ (304 bytes security) (stored 0%)
adding: libs/x64/geneXtendeR.dll (264 bytes security) (deflated 62%)
adding: MD5 (264 bytes security) (deflated 45%)
adding: Meta/ (304 bytes security) (stored 0%)
adding: Meta/data.rds (264 bytes security) (stored 0%)
adding: Meta/features.rds (264 bytes security) (stored 0%)
adding: Meta/hsearch.rds (264 bytes security) (stored 0%)
adding: Meta/links.rds (264 bytes security) (stored 0%)
adding: Meta/nsInfo.rds (264 bytes security) (stored 0%)
adding: Meta/package.rds (264 bytes security) (stored 0%)
adding: Meta/Rd.rds (264 bytes security) (stored 0%)
adding: Meta/vignette.rds (264 bytes security) (stored 0%)
adding: NAMESPACE (264 bytes security) (deflated 40%)
adding: R/ (304 bytes security) (stored 0%)
adding: R/geneXtendeR (264 bytes security) (deflated 41%)
adding: R/geneXtendeR.rdb (264 bytes security) (deflated 3%)
adding: R/geneXtendeR.rdx (264 bytes security) (stored 0%)