Back to the "Multiple platform build/check report" | A B C D E F [G] H I J K L M N O P Q R S T U V W X Y Z |
This page was generated on 2017-04-23 14:35:24 -0400 (Sun, 23 Apr 2017).
Package 487/1377 | Hostname | OS / Arch | INSTALL | BUILD | CHECK | BUILD BIN | |||||
gage 2.25.0 Weijun Luo
| malbec2 | Linux (Ubuntu 16.04.1 LTS) / x86_64 | OK | OK | OK | ![]() | |||||
tokay2 | Windows Server 2012 R2 Standard / x64 | OK | OK | OK | OK | ![]() | |||||
toluca2 | Mac OS X Mavericks (10.9.5) / x86_64 | OK | [ OK ] | OK | OK | ||||||
veracruz2 | OS X 10.11.6 El Capitan / x86_64 | OK | OK | OK | OK | ![]() |
Package: gage |
Version: 2.25.0 |
Command: /Library/Frameworks/R.framework/Versions/Current/Resources/bin/R CMD build --keep-empty-dirs --no-resave-data gage |
StartedAt: 2017-04-22 19:23:19 -0400 (Sat, 22 Apr 2017) |
EndedAt: 2017-04-22 19:28:27 -0400 (Sat, 22 Apr 2017) |
EllapsedTime: 307.7 seconds |
RetCode: 0 |
Status: OK |
PackageFile: gage_2.25.0.tar.gz |
PackageFileSize: 2.459 MiB |
############################################################################## ############################################################################## ### ### Running command: ### ### /Library/Frameworks/R.framework/Versions/Current/Resources/bin/R CMD build --keep-empty-dirs --no-resave-data gage ### ############################################################################## ############################################################################## * checking for file ‘gage/DESCRIPTION’ ... OK * preparing ‘gage’: * checking DESCRIPTION meta-information ... OK * installing the package to build vignettes * creating vignettes ... OK * checking for LF line-endings in source and make files * checking for empty or unneeded directories * looking to see if a ‘data/datalist’ file should be added * building ‘gage_2.25.0.tar.gz’