##############################################################################
##############################################################################
###
### Running command:
###
### cd chroGPS.buildbin-libdir/chroGPS && zip -r ../../chroGPS_1.24.0.zip . & cd ../..
###
##############################################################################
##############################################################################
adding: data/ (304 bytes security) (stored 0%)
adding: data/datalist (264 bytes security) (deflated 22%)
adding: data/s2.RData (264 bytes security) (deflated 15%)
adding: data/s2Seq.RData (264 bytes security) (deflated 0%)
adding: data/toydists.RData (264 bytes security) (deflated 2%)
adding: DESCRIPTION (264 bytes security) (deflated 39%)
adding: doc/ (304 bytes security) (stored 0%)
adding: doc/chroGPS.pdf (264 bytes security) (deflated 10%)
adding: doc/chroGPS.R (264 bytes security) (deflated 87%)
adding: doc/chroGPS.Rnw (264 bytes security) (deflated 67%)
adding: doc/index.html (264 bytes security) (deflated 58%)
adding: help/ (304 bytes security) (stored 0%)
adding: help/aliases.rds (264 bytes security) (stored 0%)
adding: help/AnIndex (264 bytes security) (deflated 76%)
adding: help/chroGPS.rdb (264 bytes security) (deflated 1%)
adding: help/chroGPS.rdx (264 bytes security) (stored 0%)
adding: help/paths.rds (264 bytes security) (stored 0%)
adding: html/ (304 bytes security) (stored 0%)
adding: html/00Index.html (264 bytes security) (deflated 87%)
adding: html/R.css (264 bytes security) (deflated 75%)
adding: INDEX (264 bytes security) (deflated 62%)
adding: MD5 (264 bytes security) (deflated 42%)
adding: Meta/ (304 bytes security) (stored 0%)
adding: Meta/data.rds (264 bytes security) (stored 0%)
adding: Meta/features.rds (264 bytes security) (stored 0%)
adding: Meta/hsearch.rds (264 bytes security) (stored 0%)
adding: Meta/links.rds (264 bytes security) (stored 0%)
adding: Meta/nsInfo.rds (264 bytes security) (stored 0%)
adding: Meta/package.rds (264 bytes security) (stored 0%)
adding: Meta/Rd.rds (264 bytes security) (stored 0%)
adding: Meta/vignette.rds (264 bytes security) (stored 0%)
adding: NAMESPACE (264 bytes security) (deflated 45%)
adding: NEWS (264 bytes security) (deflated 52%)
adding: R/ (304 bytes security) (stored 0%)
adding: R/chroGPS (264 bytes security) (deflated 41%)
adding: R/chroGPS.rdb (264 bytes security) (deflated 35%)
adding: R/chroGPS.rdx (264 bytes security) (deflated 2%)