Back to the "Multiple platform build/check report" | [A] B C D E F G H I J K L M N O P Q R S T U V W X Y Z |
This page was generated on 2017-04-23 14:33:34 -0400 (Sun, 23 Apr 2017).
Package 28/1377 | Hostname | OS / Arch | INSTALL | BUILD | CHECK | BUILD BIN | |||||
affyQCReport 1.53.0 Craig Parman
| malbec2 | Linux (Ubuntu 16.04.1 LTS) / x86_64 | OK | OK | OK | ![]() | |||||
tokay2 | Windows Server 2012 R2 Standard / x64 | OK | OK | OK | OK | ![]() | |||||
toluca2 | Mac OS X Mavericks (10.9.5) / x86_64 | [ OK ] | OK | OK | OK | ||||||
veracruz2 | OS X 10.11.6 El Capitan / x86_64 | OK | OK | OK | OK | ![]() |
Package: affyQCReport |
Version: 1.53.0 |
Command: /Library/Frameworks/R.framework/Versions/Current/Resources/bin/R CMD INSTALL affyQCReport |
StartedAt: 2017-04-22 18:05:15 -0400 (Sat, 22 Apr 2017) |
EndedAt: 2017-04-22 18:05:28 -0400 (Sat, 22 Apr 2017) |
EllapsedTime: 13.0 seconds |
RetCode: 0 |
Status: OK |
############################################################################## ############################################################################## ### ### Running command: ### ### /Library/Frameworks/R.framework/Versions/Current/Resources/bin/R CMD INSTALL affyQCReport ### ############################################################################## ############################################################################## * installing to library ‘/Library/Frameworks/R.framework/Versions/3.4/Resources/library’ * installing *source* package ‘affyQCReport’ ... ** R ** inst ** preparing package for lazy loading ** help *** installing help indices ** building package indices ** installing vignettes ** testing if installed package can be loaded * DONE (affyQCReport)