##############################################################################
##############################################################################
###
### Running command:
###
### rm -rf R4RNA.buildbin-libdir && mkdir R4RNA.buildbin-libdir && /Users/biocbuild/BBS/utils/build-universal.sh R4RNA_1.4.0.tar.gz /Library/Frameworks/R.framework/Versions/Current/Resources/bin/R R4RNA.buildbin-libdir
###
##############################################################################
##############################################################################
>>>>>>>
>>>>>>> INSTALLATION WITH 'R CMD INSTALL --preclean --no-multiarch --library=R4RNA.buildbin-libdir R4RNA_1.4.0.tar.gz'
>>>>>>>
* installing *source* package ‘R4RNA’ ...
** R
** data
** inst
** preparing package for lazy loading
** help
*** installing help indices
** building package indices
** installing vignettes
** testing if installed package can be loaded
* DONE (R4RNA)