##############################################################################
##############################################################################
###
### Running command:
###
### chmod a+r tinesath1probe -R && E:\biocbld\bbs-3.3-bioc\R\bin\R.exe CMD build --keep-empty-dirs --no-resave-data tinesath1probe
###
##############################################################################
##############################################################################
* checking for file 'tinesath1probe/DESCRIPTION' ... OK
* preparing 'tinesath1probe':
* checking DESCRIPTION meta-information ... OK
* checking for LF line-endings in source and make files
* checking for empty or unneeded directories
WARNING: directory 'tinesath1probe/R' is empty
* looking to see if a 'data/datalist' file should be added
* building 'tinesath1probe_1.10.0.tar.gz'